{"text_format":"1","workbook":"xlsx","n_sheets":6,"sheets":["男子","女子","個票男子","個票女子","ﾘﾚｰ個票","データー"],"not_rendered":{"charts":0,"images":0,"macros":1,"external_links":1,"defined_names":5,"comments":0,"pivot_tables":0},"unopened":[],"bounds":{"document_bytes":16777216,"sheet_cells":100000,"rows_first":2000,"rows_last":500,"rows_between":2000,"halvings":0,"cell_chars":16384,"cell_head_chars":4096},"cells_cut":0,"cells_raw":0,"read":"whole","date_system":"1904"}

{"sheet":"男子","index":0,"n_rows":111,"n_cols":9,"rows_kept":111,"cut":false,"hidden":false,"merged":[[0,3,0,6],[1,3,1,6],[6,1,6,3],[6,4,6,5],[5,4,5,6],[4,1,4,3],[4,4,4,6],[5,1,5,3],[8,7,9,7],[8,8,9,8],[8,3,9,3],[8,4,9,4],[8,5,9,5],[8,6,9,6]]}
[null,null,null,"     第１7回南アルプス市体育祭申込書 →",null,null,null,"fuzikanban-tosou@sky.plala.or.jp"]
[null,null,null,"　　 第１6斐市陸上記録会申込書     →",null,null,null,"suekis@nifty.com"]
[]
[null,null,"下記の通り参加を申し込みます。",null,null,null,null,null,"令和　　　年　　月　　日"]
[null,"　団体（学校）名　"]
[null,"　申し込み責任者　",null,null,null,null,null,"E-mail"]
[null,"　連　　絡　　先",null,null,null,null,null,"電話番号"]
[]
[null,"No.","ﾅﾝﾊﾞｰ","氏　名","性別","年齢\n学年","所　　属","参加種目"]
[null,null,"ｶｰﾄﾞ"]
[null,1]
[null,2]
[null,3]
[null,4]
[null,5]
[null,6]
[null,7]
[null,8]
[null,9]
[null,10]
[null,11]
[null,12]
[null,13]
[null,14]
[null,15]
[null,16]
[null,17]
[null,18]
[null,19]
[null,20]
[null,21]
[null,22]
[null,23]
[null,24]
[null,25]
[null,26]
[null,27]
[null,28]
[null,29]
[null,30]
[null,31]
[null,32]
[null,33]
[null,34]
[null,35]
[null,36]
[null,37]
[null,38]
[null,39]
[null,40]
[null,41]
[null,42]
[null,43]
[null,44]
[null,45]
[null,46]
[null,47]
[null,48]
[null,49]
[null,50]
[null,51]
[null,52]
[null,53]
[null,54]
[null,55]
[null,56]
[null,57]
[null,58]
[null,59]
[null,60]
[null,61]
[null,62]
[null,63]
[null,64]
[null,65]
[null,66]
[null,67]
[null,68]
[null,69]
[null,70]
[null,71]
[null,72]
[null,73]
[null,74]
[null,75]
[null,76]
[null,77]
[null,78]
[null,79]
[null,80]
[null,81]
[null,82]
[null,83]
[null,84]
[null,85]
[null,86]
[null,87]
[null,88]
[null,89]
[null,90]
[null,91]
[null,92]
[null,93]
[null,94]
[null,95]
[null,96]
[null,97]
[null,98]
[null,99]
[null,100]
[null,"※男子は黒字書き、女子は赤字書きとする。"]

{"sheet":"女子","index":1,"n_rows":111,"n_cols":9,"rows_kept":111,"cut":false,"hidden":false,"merged":[[0,3,0,6],[1,3,1,6],[8,8,9,8],[4,1,4,3],[4,4,4,6],[5,1,5,3],[5,4,5,6],[6,1,6,3],[6,4,6,5],[8,3,9,3],[8,4,9,4],[8,5,9,5],[8,6,9,6],[8,7,9,7]]}
[null,null,null,"     第１6回南アルプス市体育祭申込書 →",null,null,null,"fuzikanban-tosou@sky.plala.or.jp"]
[null,null,null,"　　 第１5甲斐市陸上記録会申込書     →",null,null,null,"suekis@nifty.com"]
[]
[null,null,"下記の通り参加を申し込みます。",null,null,null,null,null,"令和　　　年　　月　　日"]
[null,"　団体（学校）名　"]
[null,"　申し込み責任者　",null,null,null,null,null,"E-mail"]
[null,"　連　　絡　　先",null,null,null,null,null,"電話番号"]
[]
[null,"No.","ﾅﾝﾊﾞｰ","氏　名","性別","年齢\n学年","所　　属","参加種目"]
[null,null,"ｶｰﾄﾞ"]
[null,1]
[null,2,null,null,null,null,{"$f":"$E$5","v":0}]
[null,3,null,null,null,null,0]
[null,4,null,null,null,null,0]
[null,5,null,null,null,null,0]
[null,6,null,null,null,null,0]
[null,7,null,null,null,null,0]
[null,8,null,null,null,null,0]
[null,9,null,null,null,null,0]
[null,10,null,null,null,null,0]
[null,11,null,null,null,null,0]
[null,12,null,null,null,null,0]
[null,13,null,null,null,null,0]
[null,14,null,null,null,null,0]
[null,15,null,null,null,null,0]
[null,16,null,null,null,null,0]
[null,17,null,null,null,null,0]
[null,18,null,null,null,null,0]
[null,19,null,null,null,null,0]
[null,20,null,null,null,null,0]
[null,21,null,null,null,null,0]
[null,22,null,null,null,null,0]
[null,23,null,null,null,null,0]
[null,24,null,null,null,null,0]
[null,25,null,null,null,null,0]
[null,26,null,null,null,null,0]
[null,27,null,null,null,null,0]
[null,28,null,null,null,null,0]
[null,29,null,null,null,null,0]
[null,30,null,null,null,null,0]
[null,31,null,null,null,null,0]
[null,32,null,null,null,null,0]
[null,33,null,null,null,null,0]
[null,34,null,null,null,null,0]
[null,35,null,null,null,null,0]
[null,36,null,null,null,null,0]
[null,37,null,null,null,null,0]
[null,38,null,null,null,null,0]
[null,39,null,null,null,null,0]
[null,40,null,null,null,null,0]
[null,41,null,null,null,null,0]
[null,42,null,null,null,null,0]
[null,43,null,null,null,null,0]
[null,44,null,null,null,null,0]
[null,45,null,null,null,null,0]
[null,46,null,null,null,null,0]
[null,47,null,null,null,null,0]
[null,48,null,null,null,null,0]
[null,49,null,null,null,null,0]
[null,50,null,null,null,null,0]
[null,51,null,null,null,null,0]
[null,52,null,null,null,null,0]
[null,53,null,null,null,null,0]
[null,54,null,null,null,null,0]
[null,55,null,null,null,null,0]
[null,56,null,null,null,null,0]
[null,57,null,null,null,null,0]
[null,58,null,null,null,null,0]
[null,59,null,null,null,null,0]
[null,60,null,null,null,null,0]
[null,61,null,null,null,null,0]
[null,62,null,null,null,null,0]
[null,63,null,null,null,null,0]
[null,64,null,null,null,null,0]
[null,65,null,null,null,null,0]
[null,66,null,null,null,null,{"$f":"$E$5","v":0}]
[null,67,null,null,null,null,0]
[null,68,null,null,null,null,0]
[null,69,null,null,null,null,0]
[null,70,null,null,null,null,0]
[null,71,null,null,null,null,0]
[null,72,null,null,null,null,0]
[null,73,null,null,null,null,0]
[null,74,null,null,null,null,0]
[null,75,null,null,null,null,0]
[null,76,null,null,null,null,0]
[null,77,null,null,null,null,0]
[null,78,null,null,null,null,0]
[null,79,null,null,null,null,0]
[null,80,null,null,null,null,0]
[null,81,null,null,null,null,0]
[null,82,null,null,null,null,0]
[null,83,null,null,null,null,0]
[null,84,null,null,null,null,0]
[null,85,null,null,null,null,0]
[null,86,null,null,null,null,0]
[null,87,null,null,null,null,0]
[null,88,null,null,null,null,0]
[null,89,null,null,null,null,0]
[null,90,null,null,null,null,0]
[null,91,null,null,null,null,0]
[null,92,null,null,null,null,0]
[null,93,null,null,null,null,0]
[null,94,null,null,null,null,0]
[null,95,null,null,null,null,0]
[null,96,null,null,null,null,0]
[null,97,null,null,null,null,0]
[null,98,null,null,null,null,0]
[null,99,null,null,null,null,0]
[null,100,null,null,null,null,0]
[null,"※男子は黒字書き、女子は赤字書きとする。"]

{"sheet":"個票男子","index":2,"n_rows":712,"n_cols":15,"rows_kept":712,"cut":false,"hidden":false,"merged":[[583,11,583,15],[586,3,586,5],[586,7,586,10],[586,14,586,15],[587,2,588,2],[587,3,588,5],[596,2,596,5],[596,6,596,8],[596,9,596,10],[596,11,596,15],[587,11,588,13],[587,14,588,15],[573,2,574,2],[573,3,574,5],[573,6,574,6],[573,7,574,10],[573,11,574,13],[573,14,574,15],[575,2,575,5],[575,6,575,8],[575,9,575,10],[575,11,575,15],[576,2,576,10],[576,11,576,15],[590,2,590,10],[590,11,590,15],[593,3,593,5],[593,7,593,10],[593,11,593,13],[593,14,593,15],[594,2,595,2],[594,3,595,5],[579,3,579,5],[579,7,579,10],[583,2,583,10],[554,2,554,10],[554,11,554,15],[557,3,557,5],[567,2,567,5],[567,6,567,8],[567,9,567,10],[567,11,567,15],[568,2,568,10],[568,11,568,15],[572,3,572,5],[572,7,572,10],[572,11,572,13],[572,14,572,15],[594,6,595,6],[594,7,595,10],[594,11,595,13],[594,14,595,15],[580,2,581,2],[580,3,581,5],[580,6,581,6],[580,7,581,10],[580,11,581,13],[580,14,581,15],[589,9,589,10],[589,11,589,15],[582,2,582,5],[582,6,582,8],[582,9,582,10],[582,11,582,15],[579,11,579,13],[579,14,579,15],[586,11,586,13],[510,6,510,8],[510,9,510,10],[511,2,511,10],[543,14,543,15],[564,3,564,5],[564,7,564,10],[564,11,564,13],[564,14,564,15],[558,11,559,13],[558,14,559,15],[550,3,550,5],[550,7,550,10],[550,11,550,13],[550,14,550,15],[551,2,552,2],[551,3,552,5],[551,6,552,6],[551,7,552,10],[551,11,552,13],[551,14,552,15],[546,2,546,5],[546,6,546,8],[546,9,546,10],[546,11,546,15],[547,2,547,10],[547,11,547,15],[561,2,561,10],[561,11,561,15],[553,2,553,5],[553,6,553,8],[553,9,553,10],[553,11,553,15],[525,6,525,8],[525,9,525,10],[525,11,525,15],[526,2,526,10],[526,11,526,15],[529,3,529,5],[529,7,529,10],[529,11,529,13],[529,14,529,15],[530,2,531,2],[530,3,531,5],[530,6,531,6],[530,7,531,10],[530,11,531,13],[530,14,531,15],[518,11,518,15],[519,2,519,10],[519,11,519,15],[522,3,522,5],[522,7,522,10],[522,11,522,13],[522,14,522,15],[486,14,486,15],[469,2,469,10],[469,11,469,15],[472,3,472,5],[472,7,472,10],[472,11,472,13],[472,14,472,15],[473,2,474,2],[473,3,474,5],[473,6,474,6],[473,7,474,10],[473,11,474,13],[473,14,474,15],[475,2,475,5],[475,6,475,8],[489,9,489,10],[489,11,489,15],[468,2,468,5],[468,6,468,8],[468,9,468,10],[468,11,468,15],[465,3,465,5],[465,7,465,10],[465,11,465,13],[465,14,465,15],[466,2,467,2],[466,3,467,5],[466,6,467,6],[466,7,467,10],[466,11,467,13],[466,14,467,15],[480,2,481,2],[480,3,481,5],[480,6,481,6],[480,7,481,10],[480,11,481,13],[480,14,481,15],[475,9,475,10],[475,11,475,15],[476,2,476,10],[476,11,476,15],[451,2,452,2],[451,3,452,5],[451,6,452,6],[451,7,452,10],[451,11,452,13],[451,14,452,15],[459,2,460,2],[459,3,460,5],[459,6,460,6],[459,7,460,10],[459,11,460,13],[459,14,460,15],[461,2,461,5],[461,6,461,8],[461,9,461,10],[461,11,461,15],[462,2,462,10],[462,11,462,15],[453,2,453,5],[453,6,453,8],[453,9,453,10],[453,11,453,15],[454,2,454,10],[454,11,454,15],[458,3,458,5],[458,7,458,10],[458,11,458,13],[458,14,458,15],[430,2,431,2],[440,2,440,10],[440,11,440,15],[443,3,443,5],[443,7,443,10],[443,11,443,13],[443,14,443,15],[437,2,438,2],[437,3,438,5],[437,6,438,6],[437,7,438,10],[437,11,438,13],[437,14,438,15],[439,2,439,5],[439,6,439,8],[439,9,439,10],[439,11,439,15],[430,3,431,5],[430,6,431,6],[430,7,431,10],[430,11,431,13],[430,14,431,15],[418,9,418,10],[419,2,419,10],[419,11,419,15],[422,3,422,5],[422,7,422,10],[422,11,422,13],[422,14,422,15],[425,11,425,15],[425,2,425,5],[425,6,425,8],[425,9,425,10],[426,2,426,10],[426,11,426,15],[429,3,429,5],[429,7,429,10],[429,11,429,13],[429,14,429,15],[404,6,404,8],[404,9,404,10],[404,11,404,15],[405,2,405,10],[405,11,405,15],[408,3,408,5],[408,7,408,10],[408,11,408,13],[408,14,408,15],[401,3,401,5],[401,7,401,10],[401,11,401,13],[401,14,401,15],[415,3,415,5],[418,11,418,15],[423,2,424,2],[423,3,424,5],[423,6,424,6],[423,7,424,10],[423,11,424,13],[423,14,424,15],[415,7,415,10],[415,11,415,13],[415,14,415,15],[416,2,417,2],[416,3,417,5],[416,6,417,6],[416,7,417,10],[416,11,417,13],[416,14,417,15],[418,2,418,5],[418,6,418,8],[369,2,369,10],[369,11,369,15],[372,3,372,5],[372,7,372,10],[372,11,372,13],[389,2,389,5],[389,6,389,8],[389,9,389,10],[389,11,389,15],[372,14,372,15],[373,2,374,2],[373,3,374,5],[373,6,374,6],[373,7,374,10],[373,11,374,13],[373,14,374,15],[396,2,396,5],[396,6,396,8],[396,9,396,10],[396,11,396,15],[379,3,379,5],[379,7,379,10],[379,11,379,13],[379,14,379,15],[380,2,381,2],[380,3,381,5],[380,6,381,6],[380,7,381,10],[380,11,381,13],[380,14,381,15],[375,2,375,5],[375,6,375,8],[362,2,362,10],[362,11,362,15],[359,2,360,2],[359,3,360,5],[359,6,360,6],[359,7,360,10],[359,11,360,13],[359,14,360,15],[361,2,361,5],[361,6,361,8],[361,9,361,10],[361,11,361,15],[365,3,365,5],[365,7,365,10],[365,11,365,13],[365,14,365,15],[402,2,403,2],[402,3,403,5],[402,6,403,6],[402,7,403,10],[402,11,403,13],[402,14,403,15],[366,2,367,2],[366,3,367,5],[366,6,367,6],[366,7,367,10],[366,11,367,13],[366,14,367,15],[368,2,368,5],[368,6,368,8],[368,9,368,10],[368,11,368,15],[311,9,311,10],[311,11,311,15],[322,3,322,5],[322,7,322,10],[322,11,322,13],[322,14,322,15],[312,2,312,10],[312,11,312,15],[315,3,315,5],[315,7,315,10],[315,11,315,13],[315,14,315,15],[316,2,317,2],[316,3,317,5],[316,6,317,6],[316,7,317,10],[316,11,317,13],[316,14,317,15],[318,2,318,5],[318,6,318,8],[318,9,318,10],[318,11,318,15],[319,2,319,10],[319,11,319,15],[298,2,298,10],[298,11,298,15],[301,3,301,5],[301,7,301,10],[301,11,301,13],[301,14,301,15],[302,2,303,2],[302,3,303,5],[302,6,303,6],[302,7,303,10],[302,11,303,13],[302,14,303,15],[304,2,304,5],[304,6,304,8],[290,2,290,5],[290,6,290,8],[290,9,290,10],[290,11,290,15],[291,2,291,10],[291,11,291,15],[294,3,294,5],[294,7,294,10],[294,11,294,13],[294,14,294,15],[297,2,297,5],[297,6,297,8],[304,9,304,10],[304,11,304,15],[295,2,296,2],[295,3,296,5],[295,6,296,6],[295,7,296,10],[272,3,272,5],[272,7,272,10],[272,11,272,13],[272,14,272,15],[273,2,274,2],[273,3,274,5],[273,6,274,6],[273,7,274,10],[282,2,282,5],[282,6,282,8],[282,9,282,10],[282,11,282,15],[268,2,268,5],[268,6,268,8],[268,9,268,10],[268,11,268,15],[273,11,274,13],[273,14,274,15],[275,2,275,5],[275,6,275,8],[275,9,275,10],[275,11,275,15],[276,2,276,10],[276,11,276,15],[279,3,279,5],[279,7,279,10],[279,11,279,13],[279,14,279,15],[280,2,281,2],[280,3,281,5],[247,2,247,5],[247,6,247,8],[247,9,247,10],[248,2,248,10],[248,11,248,15],[251,3,251,5],[251,7,251,10],[251,11,251,13],[251,14,251,15],[252,2,253,2],[252,3,253,5],[252,6,253,6],[252,7,253,10],[252,11,253,13],[252,14,253,15],[254,2,254,5],[254,6,254,8],[254,9,254,10],[233,11,233,15],[225,11,225,15],[231,2,232,2],[231,3,232,5],[231,6,232,6],[231,7,232,10],[231,11,232,13],[231,14,232,15],[233,2,233,5],[233,6,233,8],[233,9,233,10],[226,2,226,10],[226,11,226,15],[230,3,230,5],[230,7,230,10],[230,11,230,13],[230,14,230,15],[194,3,194,5],[194,7,194,10],[194,11,194,13],[194,14,194,15],[195,2,196,2],[195,3,196,5],[211,11,211,15],[204,11,204,15],[204,2,204,5],[204,6,204,8],[204,9,204,10],[205,2,205,10],[205,11,205,15],[208,3,208,5],[208,7,208,10],[208,11,208,13],[208,14,208,15],[209,2,210,2],[195,6,196,6],[195,7,196,10],[195,11,196,13],[195,14,196,15],[197,2,197,5],[197,6,197,8],[197,9,197,10],[198,2,198,10],[198,11,198,15],[201,3,201,5],[201,7,201,10],[201,11,201,13],[201,14,201,15],[202,2,203,2],[190,2,190,5],[190,6,190,8],[190,9,190,10],[190,11,190,15],[191,2,191,10],[191,11,191,15],[187,3,187,5],[187,7,187,10],[187,11,187,13],[187,14,187,15],[188,2,189,2],[188,3,189,5],[188,6,189,6],[188,7,189,10],[188,11,189,13],[188,14,189,15],[183,2,183,5],[183,6,183,8],[183,9,183,10],[183,11,183,15],[184,2,184,10],[184,11,184,15],[180,3,180,5],[180,7,180,10],[180,11,180,13],[180,14,180,15],[181,2,182,2],[181,3,182,5],[181,6,182,6],[181,7,182,10],[181,11,182,13],[181,14,182,15],[176,2,176,5],[176,6,176,8],[176,9,176,10],[176,11,176,15],[177,2,177,10],[177,11,177,15],[173,3,173,5],[173,7,173,10],[173,11,173,13],[173,14,173,15],[174,2,175,2],[174,3,175,5],[174,6,175,6],[174,7,175,10],[174,11,175,13],[174,14,175,15],[168,2,168,5],[168,6,168,8],[168,9,168,10],[168,11,168,15],[169,2,169,10],[169,11,169,15],[165,3,165,5],[165,7,165,10],[165,11,165,13],[165,14,165,15],[166,2,167,2],[166,3,167,5],[166,6,167,6],[166,7,167,10],[166,11,167,13],[166,14,167,15],[161,2,161,5],[161,6,161,8],[161,9,161,10],[161,11,161,15],[162,2,162,10],[162,11,162,15],[158,3,158,5],[158,7,158,10],[158,11,158,13],[158,14,158,15],[159,2,160,2],[159,3,160,5],[159,6,160,6],[159,7,160,10],[159,11,160,13],[159,14,160,15],[154,2,154,5],[154,6,154,8],[154,9,154,10],[154,11,154,15],[155,2,155,10],[155,11,155,15],[151,3,151,5],[151,7,151,10],[151,11,151,13],[151,14,151,15],[152,2,153,2],[152,3,153,5],[152,6,153,6],[152,7,153,10],[152,11,153,13],[152,14,153,15],[147,2,147,5],[147,6,147,8],[147,9,147,10],[147,11,147,15],[148,2,148,10],[148,11,148,15],[144,3,144,5],[144,7,144,10],[144,11,144,13],[144,14,144,15],[145,2,146,2],[145,3,146,5],[145,6,146,6],[145,7,146,10],[145,11,146,13],[145,14,146,15],[140,2,140,5],[140,6,140,8],[140,9,140,10],[140,11,140,15],[141,2,141,10],[141,11,141,15],[137,3,137,5],[137,7,137,10],[137,11,137,13],[137,14,137,15],[138,2,139,2],[138,3,139,5],[138,6,139,6],[138,7,139,10],[138,11,139,13],[138,14,139,15],[133,2,133,5],[133,6,133,8],[133,9,133,10],[133,11,133,15],[134,2,134,10],[134,11,134,15],[130,3,130,5],[130,7,130,10],[130,11,130,13],[130,14,130,15],[131,2,132,2],[131,3,132,5],[131,6,132,6],[131,7,132,10],[131,11,132,13],[131,14,132,15],[126,2,126,5],[126,6,126,8],[126,9,126,10],[126,11,126,15],[127,2,127,10],[127,11,127,15],[123,3,123,5],[123,7,123,10],[123,11,123,13],[123,14,123,15],[124,2,125,2],[124,3,125,5],[124,6,125,6],[124,7,125,10],[124,11,125,13],[124,14,125,15],[119,2,119,5],[119,6,119,8],[119,9,119,10],[119,11,119,15],[120,2,120,10],[120,11,120,15],[116,3,116,5],[116,7,116,10],[116,11,116,13],[116,14,116,15],[117,2,118,2],[117,3,118,5],[117,6,118,6],[117,7,118,10],[117,11,118,13],[117,14,118,15],[111,2,111,5],[111,6,111,8],[111,9,111,10],[111,11,111,15],[112,2,112,10],[112,11,112,15],[108,3,108,5],[108,7,108,10],[108,11,108,13],[108,14,108,15],[109,2,110,2],[109,3,110,5],[109,6,110,6],[109,7,110,10],[109,11,110,13],[109,14,110,15],[104,2,104,5],[104,6,104,8],[104,9,104,10],[104,11,104,15],[105,2,105,10],[105,11,105,15],[101,3,101,5],[101,7,101,10],[101,11,101,13],[101,14,101,15],[102,2,103,2],[102,3,103,5],[102,6,103,6],[102,7,103,10],[102,11,103,13],[102,14,103,15],[97,2,97,5],[97,6,97,8],[97,9,97,10],[97,11,97,15],[98,2,98,10],[98,11,98,15],[94,3,94,5],[94,7,94,10],[94,11,94,13],[94,14,94,15],[95,2,96,2],[95,3,96,5],[95,6,96,6],[95,7,96,10],[95,11,96,13],[95,14,96,15],[90,2,90,5],[90,6,90,8],[90,9,90,10],[90,11,90,15],[91,2,91,10],[91,11,91,15],[87,3,87,5],[87,7,87,10],[87,11,87,13],[87,14,87,15],[88,2,89,2],[88,3,89,5],[88,6,89,6],[88,7,89,10],[88,11,89,13],[88,14,89,15],[83,2,83,5],[83,6,83,8],[83,9,83,10],[83,11,83,15],[84,2,84,10],[84,11,84,15],[80,3,80,5],[80,7,80,10],[80,11,80,13],[80,14,80,15],[81,2,82,2],[81,3,82,5],[81,6,82,6],[81,7,82,10],[81,11,82,13],[81,14,82,15],[76,2,76,5],[76,6,76,8],[76,9,76,10],[76,11,76,15],[77,2,77,10],[77,11,77,15],[73,3,73,5],[73,7,73,10],[73,11,73,13],[73,14,73,15],[74,2,75,2],[74,3,75,5],[74,6,75,6],[74,7,75,10],[74,11,75,13],[74,14,75,15],[69,2,69,5],[69,6,69,8],[69,9,69,10],[69,11,69,15],[70,2,70,10],[70,11,70,15],[66,3,66,5],[66,7,66,10],[66,11,66,13],[66,14,66,15],[67,2,68,2],[67,3,68,5],[67,6,68,6],[67,7,68,10],[67,11,68,13],[67,14,68,15],[62,2,62,5],[62,6,62,8],[62,9,62,10],[62,11,62,15],[63,2,63,10],[63,11,63,15],[59,3,59,5],[59,7,59,10],[59,11,59,13],[59,14,59,15],[60,2,61,2],[60,3,61,5],[60,6,61,6],[60,7,61,10],[60,11,61,13],[60,14,61,15],[54,2,54,5],[54,6,54,8],[54,9,54,10],[54,11,54,15],[55,2,55,10],[55,11,55,15],[51,3,51,5],[51,7,51,10],[51,11,51,13],[51,14,51,15],[52,2,53,2],[52,3,53,5],[52,6,53,6],[52,7,53,10],[52,11,53,13],[52,14,53,15],[47,2,47,5],[47,6,47,8],[47,9,47,10],[47,11,47,15],[48,2,48,10],[48,11,48,15],[44,3,44,5],[44,7,44,10],[44,11,44,13],[44,14,44,15],[45,2,46,2],[45,3,46,5],[45,6,46,6],[45,7,46,10],[45,11,46,13],[45,14,46,15],[40,2,40,5],[40,6,40,8],[40,9,40,10],[40,11,40,15],[41,2,41,10],[41,11,41,15],[37,3,37,5],[37,7,37,10],[37,11,37,13],[37,14,37,15],[38,2,39,2],[38,3,39,5],[38,6,39,6],[38,7,39,10],[38,11,39,13],[38,14,39,15],[33,2,33,5],[33,6,33,8],[33,9,33,10],[33,11,33,15],[34,2,34,10],[34,11,34,15],[30,3,30,5],[30,7,30,10],[30,11,30,13],[30,14,30,15],[31,2,32,2],[31,3,32,5],[31,6,32,6],[31,7,32,10],[31,11,32,13],[31,14,32,15],[26,2,26,5],[26,6,26,8],[26,9,26,10],[26,11,26,15],[27,2,27,10],[27,11,27,15],[23,3,23,5],[23,7,23,10],[23,11,23,13],[23,14,23,15],[24,2,25,2],[24,3,25,5],[24,6,25,6],[24,7,25,10],[24,11,25,13],[24,14,25,15],[19,2,19,5],[19,6,19,8],[19,9,19,10],[19,11,19,15],[20,2,20,10],[20,11,20,15],[16,3,16,5],[16,7,16,10],[16,11,16,13],[16,14,16,15],[17,2,18,2],[17,3,18,5],[17,6,18,6],[17,7,18,10],[17,11,18,13],[17,14,18,15],[12,2,12,5],[12,6,12,8],[12,9,12,10],[12,11,12,15],[13,2,13,10],[13,11,13,15],[9,3,9,5],[9,7,9,10],[9,11,9,13],[9,14,9,15],[10,2,11,2],[10,3,11,5],[10,6,11,6],[10,7,11,10],[10,11,11,13],[10,14,11,15],[5,2,5,5],[5,6,5,8],[5,9,5,10],[5,11,5,15],[6,2,6,10],[6,11,6,15],[2,3,2,5],[2,7,2,10],[2,11,2,13],[2,14,2,15],[3,2,4,2],[3,3,4,5],[3,6,4,6],[3,7,4,10],[3,11,4,13],[3,14,4,15],[218,6,218,8],[218,9,218,10],[219,2,219,10],[219,11,219,15],[222,3,222,5],[202,3,203,5],[202,6,203,6],[202,7,203,10],[202,11,203,13],[202,14,203,15],[197,11,197,15],[209,3,210,5],[209,6,210,6],[209,7,210,10],[209,11,210,13],[209,14,210,15],[211,2,211,5],[211,6,211,8],[211,9,211,10],[212,2,212,10],[212,11,212,15],[215,3,215,5],[215,7,215,10],[215,11,215,13],[215,14,215,15],[244,3,244,5],[244,7,244,10],[244,11,244,13],[244,14,244,15],[245,2,246,2],[245,3,246,5],[254,11,254,15],[247,11,247,15],[245,6,246,6],[245,7,246,10],[245,11,246,13],[245,14,246,15],[216,2,217,2],[216,3,217,5],[216,6,217,6],[216,7,217,10],[216,11,217,13],[216,14,217,15],[222,7,222,10],[222,11,222,13],[222,14,222,15],[223,2,224,2],[223,3,224,5],[223,6,224,6],[223,7,224,10],[223,11,224,13],[223,14,224,15],[225,2,225,5],[225,6,225,8],[225,9,225,10],[218,11,218,15],[218,2,218,5],[234,2,234,10],[234,11,234,15],[237,3,237,5],[237,7,237,10],[237,11,237,13],[237,14,237,15],[238,2,239,2],[238,3,239,5],[238,6,239,6],[238,7,239,10],[238,11,239,13],[238,14,239,15],[240,2,240,5],[240,6,240,8],[240,9,240,10],[241,2,241,10],[241,11,241,15],[240,11,240,15],[295,11,296,13],[295,14,296,15],[255,2,255,10],[255,11,255,15],[258,3,258,5],[258,7,258,10],[258,11,258,13],[258,14,258,15],[261,2,261,5],[261,6,261,8],[261,9,261,10],[261,11,261,15],[262,2,262,10],[262,11,262,15],[265,3,265,5]],"merged_total":1600,"flags":["merged_cut"]}
[null,null,"※個票は申込書より自動作成されます。"]
[null,1]
[null,"個","性別","種　別",null,null,"種　目","氏　　　　名",null,null,null,"番　号",null,null,"所　　属"]
[null,"人",{"$f":"男子!E11","v":0},{"$f":"男子!F11","v":0},null,null,{"$f":"男子!H11","v":0},{"$f":"男子!D11","v":0},null,null,null,{"$f":"男子!C11","v":0},null,null,{"$f":"男子!G11","v":0}]
[null,"申"]
[null,"込","最  近 の 記 録",null,null,null,null,null,null,"ベスト記録"]
[null,"票","   ※男子は黒字書き、女子は赤字書きとする。　",null,null,null,null,null,null,null,null,"南アルプス市・甲斐市・中央市陸協"]
[]
[null,2]
[null,"個","性別","種　別",null,null,"種　目","氏　　　　名",null,null,null,"番　号",null,null,"所　　属"]
[null,"人",{"$f":"男子!E12","v":0},{"$f":"男子!F12","v":0},null,null,{"$f":"男子!H12","v":0},{"$f":"男子!D12","v":0},null,null,null,{"$f":"男子!C12","v":0},null,null,{"$f":"男子!G12","v":0}]
[null,"申"]
[null,"込","最  近 の 記 録",null,null,null,null,null,null,"ベスト記録"]
[null,"票","   ※男子は黒字書き、女子は赤字書きとする。　",null,null,null,null,null,null,null,null,"南アルプス市・甲斐市・中央市陸協"]
[]
[null,3]
[null,"個","性別","種　別",null,null,"種　目","氏　　　　名",null,null,null,"番　号",null,null,"所　　属"]
[null,"人",{"$f":"男子!E13","v":0},{"$f":"男子!F13","v":0},null,null,{"$f":"男子!H13","v":0},{"$f":"男子!D13","v":0},null,null,null,{"$f":"男子!C13","v":0},null,null,{"$f":"男子!G13","v":0}]
[null,"申"]
[null,"込","最  近 の 記 録",null,null,null,null,null,null,"ベスト記録"]
[null,"票","   ※男子は黒字書き、女子は赤字書きとする。　",null,null,null,null,null,null,null,null,"南アルプス市・甲斐市・中央市陸協"]
[]
[null,4]
[null,"個","性別","種　別",null,null,"種　目","氏　　　　名",null,null,null,"番　号",null,null,"所　　属"]
[null,"人",{"$f":"男子!E14","v":0},{"$f":"男子!F14","v":0},null,null,{"$f":"男子!H14","v":0},{"$f":"男子!D14","v":0},null,null,null,{"$f":"男子!C14","v":0},null,null,{"$f":"男子!G14","v":0}]
[null,"申"]
[null,"込","最  近 の 記 録",null,null,null,null,null,null,"ベスト記録"]
[null,"票","   ※男子は黒字書き、女子は赤字書きとする。　",null,null,null,null,null,null,null,null,"南アルプス市・甲斐市・中央市陸協"]
[null,5]
[]
[null,"個","性別","種　別",null,null,"種　目","氏　　　　名",null,null,null,"番　号",null,null,"所　　属"]
[null,"人",{"$f":"男子!E15","v":0},{"$f":"男子!F15","v":0},null,null,{"$f":"男子!H15","v":0},{"$f":"男子!D15","v":0},null,null,null,{"$f":"男子!C15","v":0},null,null,{"$f":"男子!G15","v":0}]
[null,"申"]
[null,"込","最  近 の 記 録",null,null,null,null,null,null,"ベスト記録"]
[null,"票","   ※男子は黒字書き、女子は赤字書きとする。　",null,null,null,null,null,null,null,null,"南アルプス市・甲斐市・中央市陸協"]
[]
[null,6]
[null,"個","性別","種　別",null,null,"種　目","氏　　　　名",null,null,null,"番　号",null,null,"所　　属"]
[null,"人",{"$f":"男子!E16","v":0},{"$f":"男子!F16","v":0},null,null,{"$f":"男子!H16","v":0},{"$f":"男子!D16","v":0},null,null,null,{"$f":"男子!C16","v":0},null,null,{"$f":"男子!G16","v":0}]
[null,"申"]
[null,"込","最  近 の 記 録",null,null,null,null,null,null,"ベスト記録"]
[null,"票","   ※男子は黒字書き、女子は赤字書きとする。　",null,null,null,null,null,null,null,null,"南アルプス市・甲斐市・中央市陸協"]
[]
[null,7]
[null,"個","性別","種　別",null,null,"種　目","氏　　　　名",null,null,null,"番　号",null,null,"所　　属"]
[null,"人",{"$f":"男子!E17","v":0},{"$f":"男子!F17","v":0},null,null,{"$f":"男子!H17","v":0},{"$f":"男子!D17","v":0},null,null,null,{"$f":"男子!C17","v":0},null,null,{"$f":"男子!G17","v":0}]
[null,"申"]
[null,"込","最  近 の 記 録",null,null,null,null,null,null,"ベスト記録"]
[null,"票","   ※男子は黒字書き、女子は赤字書きとする。　",null,null,null,null,null,null,null,null,"南アルプス市・甲斐市・中央市陸協"]
[]
[null,8]
[null,"個","性別","種　別",null,null,"種　目","氏　　　　名",null,null,null,"番　号",null,null,"所　　属"]
[null,"人",{"$f":"男子!E18","v":0},{"$f":"男子!F18","v":0},null,null,{"$f":"男子!H18","v":0},{"$f":"男子!D18","v":0},null,null,null,{"$f":"男子!C18","v":0},null,null,{"$f":"男子!G18","v":0}]
[null,"申"]
[null,"込","最  近 の 記 録",null,null,null,null,null,null,"ベスト記録"]
[null,"票","   ※男子は黒字書き、女子は赤字書きとする。　",null,null,null,null,null,null,null,null,"南アルプス市・甲斐市・中央市陸協"]
[]
[]
[null,9]
[null,"個","性別","種　別",null,null,"種　目","氏　　　　名",null,null,null,"番　号",null,null,"所　　属"]
[null,"人",{"$f":"男子!E19","v":0},{"$f":"男子!F19","v":0},null,null,{"$f":"男子!H19","v":0},{"$f":"男子!D19","v":0},null,null,null,{"$f":"男子!C19","v":0},null,null,{"$f":"男子!G19","v":0}]
[null,"申"]
[null,"込","最  近 の 記 録",null,null,null,null,null,null,"ベスト記録"]
[null,"票","   ※男子は黒字書き、女子は赤字書きとする。　",null,null,null,null,null,null,null,null,"南アルプス市・甲斐市・中央市陸協"]
[]
[null,10]
[null,"個","性別","種　別",null,null,"種　目","氏　　　　名",null,null,null,"番　号",null,null,"所　　属"]
[null,"人",{"$f":"男子!E20","v":0},{"$f":"男子!F20","v":0},null,null,{"$f":"男子!H20","v":0},{"$f":"男子!D20","v":0},null,null,null,{"$f":"男子!C20","v":0},null,null,{"$f":"男子!G20","v":0}]
[null,"申"]
[null,"込","最  近 の 記 録",null,null,null,null,null,null,"ベスト記録"]
[null,"票","   ※男子は黒字書き、女子は赤字書きとする。　",null,null,null,null,null,null,null,null,"南アルプス市・甲斐市・中央市陸協"]
[]
[null,11]
[null,"個","性別","種　別",null,null,"種　目","氏　　　　名",null,null,null,"番　号",null,null,"所　　属"]
[null,"人",{"$f":"男子!E21","v":0},{"$f":"男子!F21","v":0},null,null,{"$f":"男子!H21","v":0},{"$f":"男子!D21","v":0},null,null,null,{"$f":"男子!C21","v":0},null,null,{"$f":"男子!G21","v":0}]
[null,"申"]
[null,"込","最  近 の 記 録",null,null,null,null,null,null,"ベスト記録"]
[null,"票","   ※男子は黒字書き、女子は赤字書きとする。　",null,null,null,null,null,null,null,null,"南アルプス市・甲斐市・中央市陸協"]
[]
[null,12]
[null,"個","性別","種　別",null,null,"種　目","氏　　　　名",null,null,null,"番　号",null,null,"所　　属"]
[null,"人",{"$f":"男子!E22","v":0},{"$f":"男子!F22","v":0},null,null,{"$f":"男子!H22","v":0},{"$f":"男子!D22","v":0},null,null,null,{"$f":"男子!C22","v":0},null,null,{"$f":"男子!G22","v":0}]
[null,"申"]
[null,"込","最  近 の 記 録",null,null,null,null,null,null,"ベスト記録"]
[null,"票","   ※男子は黒字書き、女子は赤字書きとする。　",null,null,null,null,null,null,null,null,"南アルプス市・甲斐市・中央市陸協"]
[]
[null,13]
[null,"個","性別","種　別",null,null,"種　目","氏　　　　名",null,null,null,"番　号",null,null,"所　　属"]
[null,"人",{"$f":"男子!E23","v":0},{"$f":"男子!F23","v":0},null,null,{"$f":"男子!H23","v":0},{"$f":"男子!D23","v":0},null,null,null,{"$f":"男子!C23","v":0},null,null,{"$f":"男子!G23","v":0}]
[null,"申"]
[null,"込","最  近 の 記 録",null,null,null,null,null,null,"ベスト記録"]
[null,"票","   ※男子は黒字書き、女子は赤字書きとする。　",null,null,null,null,null,null,null,null,"南アルプス市・甲斐市・中央市陸協"]
[]
[null,14]
[null,"個","性別","種　別",null,null,"種　目","氏　　　　名",null,null,null,"番　号",null,null,"所　　属"]
[null,"人",{"$f":"男子!E24","v":0},{"$f":"男子!F24","v":0},null,null,{"$f":"男子!H24","v":0},{"$f":"男子!D24","v":0},null,null,null,{"$f":"男子!C24","v":0},null,null,{"$f":"男子!G24","v":0}]
[null,"申"]
[null,"込","最  近 の 記 録",null,null,null,null,null,null,"ベスト記録"]
[null,"票","   ※男子は黒字書き、女子は赤字書きとする。　",null,null,null,null,null,null,null,null,"南アルプス市・甲斐市・中央市陸協"]
[]
[null,15]
[null,"個","性別","種　別",null,null,"種　目","氏　　　　名",null,null,null,"番　号",null,null,"所　　属"]
[null,"人",{"$f":"男子!E25","v":0},{"$f":"男子!F25","v":0},null,null,{"$f":"男子!H25","v":0},{"$f":"男子!D25","v":0},null,null,null,{"$f":"男子!C25","v":0},null,null,{"$f":"男子!G25","v":0}]
[null,"申"]
[null,"込","最  近 の 記 録",null,null,null,null,null,null,"ベスト記録"]
[null,"票","   ※男子は黒字書き、女子は赤字書きとする。　",null,null,null,null,null,null,null,null,"南アルプス市・甲斐市・中央市陸協"]
[]
[null,16]
[null,"個","性別","種　別",null,null,"種　目","氏　　　　名",null,null,null,"番　号",null,null,"所　　属"]
[null,"人",{"$f":"男子!E26","v":0},{"$f":"男子!F26","v":0},null,null,{"$f":"男子!H26","v":0},{"$f":"男子!D26","v":0},null,null,null,{"$f":"男子!C26","v":0},null,null,{"$f":"男子!G26","v":0}]
[null,"申"]
[null,"込","最  近 の 記 録",null,null,null,null,null,null,"ベスト記録"]
[null,"票","   ※男子は黒字書き、女子は赤字書きとする。　",null,null,null,null,null,null,null,null,"南アルプス市・甲斐市・中央市陸協"]
[]
[]
[null,17]
[null,"個","性別","種　別",null,null,"種　目","氏　　　　名",null,null,null,"番　号",null,null,"所　　属"]
[null,"人",{"$f":"男子!E27","v":0},{"$f":"男子!F27","v":0},null,null,{"$f":"男子!H27","v":0},{"$f":"男子!D27","v":0},null,null,null,{"$f":"男子!C27","v":0},null,null,{"$f":"男子!G27","v":0}]
[null,"申"]
[null,"込","最  近 の 記 録",null,null,null,null,null,null,"ベスト記録"]
[null,"票","   ※男子は黒字書き、女子は赤字書きとする。　",null,null,null,null,null,null,null,null,"南アルプス市・甲斐市・中央市陸協"]
[]
[null,18]
[null,"個","性別","種　別",null,null,"種　目","氏　　　　名",null,null,null,"番　号",null,null,"所　　属"]
[null,"人",{"$f":"男子!E28","v":0},{"$f":"男子!F28","v":0},null,null,{"$f":"男子!H28","v":0},{"$f":"男子!D28","v":0},null,null,null,{"$f":"男子!C28","v":0},null,null,{"$f":"男子!G28","v":0}]
[null,"申"]
[null,"込","最  近 の 記 録",null,null,null,null,null,null,"ベスト記録"]
[null,"票","   ※男子は黒字書き、女子は赤字書きとする。　",null,null,null,null,null,null,null,null,"南アルプス市・甲斐市・中央市陸協"]
[]
[null,19]
[null,"個","性別","種　別",null,null,"種　目","氏　　　　名",null,null,null,"番　号",null,null,"所　　属"]
[null,"人",{"$f":"男子!E29","v":0},{"$f":"男子!F29","v":0},null,null,{"$f":"男子!H29","v":0},{"$f":"男子!D29","v":0},null,null,null,{"$f":"男子!C29","v":0},null,null,{"$f":"男子!G29","v":0}]
[null,"申"]
[null,"込","最  近 の 記 録",null,null,null,null,null,null,"ベスト記録"]
[null,"票","   ※男子は黒字書き、女子は赤字書きとする。　",null,null,null,null,null,null,null,null,"南アルプス市・甲斐市・中央市陸協"]
[]
[]
[null,20,"性別","種　別",null,null,"種　目","氏　　　　名",null,null,null,"番　号",null,null,"所　　属"]
[null,"人",{"$f":"男子!E30","v":0},{"$f":"男子!F30","v":0},null,null,{"$f":"男子!H30","v":0},{"$f":"男子!D30","v":0},null,null,null,{"$f":"男子!C30","v":0},null,null,{"$f":"男子!G30","v":0}]
[null,"申"]
[null,"込","最  近 の 記 録",null,null,null,null,null,null,"ベスト記録"]
[null,"票","   ※男子は黒字書き、女子は赤字書きとする。　",null,null,null,null,null,null,null,null,"南アルプス市・甲斐市・中央市陸協"]
[]
[null,21]
[null,"個","性別","種　別",null,null,"種　目","氏　　　　名",null,null,null,"番　号",null,null,"所　　属"]
[null,"人",{"$f":"男子!E31","v":0},{"$f":"男子!F31","v":0},null,null,{"$f":"男子!H31","v":0},{"$f":"男子!D31","v":0},null,null,null,{"$f":"男子!C31","v":0},null,null,{"$f":"男子!G31","v":0}]
[null,"申"]
[null,"込","最  近 の 記 録",null,null,null,null,null,null,"ベスト記録"]
[null,"票","   ※男子は黒字書き、女子は赤字書きとする。　",null,null,null,null,null,null,null,null,"南アルプス市・甲斐市・中央市陸協"]
[]
[null,22]
[null,"個","性別","種　別",null,null,"種　目","氏　　　　名",null,null,null,"番　号",null,null,"所　　属"]
[null,"人",{"$f":"男子!E32","v":0},{"$f":"男子!F32","v":0},null,null,{"$f":"男子!H32","v":0},{"$f":"男子!D32","v":0},null,null,null,{"$f":"男子!C32","v":0},null,null,{"$f":"男子!G32","v":0}]
[null,"申"]
[null,"込","最  近 の 記 録",null,null,null,null,null,null,"ベスト記録"]
[null,"票","   ※男子は黒字書き、女子は赤字書きとする。　",null,null,null,null,null,null,null,null,"南アルプス市・甲斐市・中央市陸協"]
[]
[null,23]
[null,"個","性別","種　別",null,null,"種　目","氏　　　　名",null,null,null,"番　号",null,null,"所　　属"]
[null,"人",{"$f":"男子!E33","v":0},{"$f":"男子!F33","v":0},null,null,{"$f":"男子!H33","v":0},{"$f":"男子!D33","v":0},null,null,null,{"$f":"男子!C33","v":0},null,null,{"$f":"男子!G33","v":0}]
[null,"申"]
[null,"込","最  近 の 記 録",null,null,null,null,null,null,"ベスト記録"]
[null,"票","   ※男子は黒字書き、女子は赤字書きとする。　",null,null,null,null,null,null,null,null,"南アルプス市・甲斐市・中央市陸協"]
[]
[null,24]
[null,"個","性別","種　別",null,null,"種　目","氏　　　　名",null,null,null,"番　号",null,null,"所　　属"]
[null,"人",{"$f":"男子!E34","v":0},{"$f":"男子!F34","v":0},null,null,{"$f":"男子!H34","v":0},{"$f":"男子!D34","v":0},null,null,null,{"$f":"男子!C34","v":0},null,null,{"$f":"男子!G34","v":0}]
[null,"申"]
[null,"込","最  近 の 記 録",null,null,null,null,null,null,"ベスト記録"]
[null,"票","   ※男子は黒字書き、女子は赤字書きとする。　",null,null,null,null,null,null,null,null,"南アルプス市・甲斐市・中央市陸協"]
[]
[]
[null,25]
[null,"個","性別","種　別",null,null,"種　目","氏　　　　名",null,null,null,"番　号",null,null,"所　　属"]
[null,"人",{"$f":"男子!E35","v":0},{"$f":"男子!F35","v":0},null,null,{"$f":"男子!H35","v":0},{"$f":"男子!D35","v":0},null,null,null,{"$f":"男子!C35","v":0},null,null,{"$f":"男子!G35","v":0}]
[null,"申"]
[null,"込","最  近 の 記 録",null,null,null,null,null,null,"ベスト記録"]
[null,"票","   ※男子は黒字書き、女子は赤字書きとする。　",null,null,null,null,null,null,null,null,"南アルプス市・甲斐市・中央市陸協"]
[]
[null,26]
[null,"個","性別","種　別",null,null,"種　目","氏　　　　名",null,null,null,"番　号",null,null,"所　　属"]
[null,"人",{"$f":"男子!E36","v":0},{"$f":"男子!F36","v":0},null,null,{"$f":"男子!H36","v":0},{"$f":"男子!D36","v":0},null,null,null,{"$f":"男子!C36","v":0},null,null,{"$f":"男子!G36","v":0}]
[null,"申"]
[null,"込","最  近 の 記 録",null,null,null,null,null,null,"ベスト記録"]
[null,"票","   ※男子は黒字書き、女子は赤字書きとする。　",null,null,null,null,null,null,null,null,"南アルプス市・甲斐市・中央市陸協"]
[]
[null,27]
[null,"個","性別","種　別",null,null,"種　目","氏　　　　名",null,null,null,"番　号",null,null,"所　　属"]
[null,"人",{"$f":"男子!E37","v":0},{"$f":"男子!F37","v":0},null,null,{"$f":"男子!H37","v":0},{"$f":"男子!D37","v":0},null,null,null,{"$f":"男子!C37","v":0},null,null,{"$f":"男子!G37","v":0}]
[null,"申"]
[null,"込","最  近 の 記 録",null,null,null,null,null,null,"ベスト記録"]
[null,"票","   ※男子は黒字書き、女子は赤字書きとする。　",null,null,null,null,null,null,null,null,"南アルプス市・甲斐市・中央市陸協"]
[]
[null,28]
[null,"個","性別","種　別",null,null,"種　目","氏　　　　名",null,null,null,"番　号",null,null,"所　　属"]
[null,"人",{"$f":"男子!E38","v":0},{"$f":"男子!F38","v":0},null,null,{"$f":"男子!H38","v":0},{"$f":"男子!D38","v":0},null,null,null,{"$f":"男子!C38","v":0},null,null,{"$f":"男子!G38","v":0}]
[null,"申"]
[null,"込","最  近 の 記 録",null,null,null,null,null,null,"ベスト記録"]
[null,"票","   ※男子は黒字書き、女子は赤字書きとする。　",null,null,null,null,null,null,null,null,"南アルプス市・甲斐市・中央市陸協"]
[]
[null,29]
[null,"個","性別","種　別",null,null,"種　目","氏　　　　名",null,null,null,"番　号",null,null,"所　　属"]
[null,"人",{"$f":"男子!E39","v":0},{"$f":"男子!F39","v":0},null,null,{"$f":"男子!H39","v":0},{"$f":"男子!D39","v":0},null,null,null,{"$f":"男子!C39","v":0},null,null,{"$f":"男子!G39","v":0}]
[null,"申"]
[null,"込","最  近 の 記 録",null,null,null,null,null,null,"ベスト記録"]
[null,"票","   ※男子は黒字書き、女子は赤字書きとする。　",null,null,null,null,null,null,null,null,"南アルプス市・甲斐市・中央市陸協"]
[]
[null,30]
[null,"個","性別","種　別",null,null,"種　目","氏　　　　名",null,null,null,"番　号",null,null,"所　　属"]
[null,"人",{"$f":"男子!E40","v":0},{"$f":"男子!F40","v":0},null,null,{"$f":"男子!H40","v":0},{"$f":"男子!D40","v":0},null,null,null,{"$f":"男子!C40","v":0},null,null,{"$f":"男子!G40","v":0}]
[null,"申"]
[null,"込","最  近 の 記 録",null,null,null,null,null,null,"ベスト記録"]
[null,"票","   ※男子は黒字書き、女子は赤字書きとする。　",null,null,null,null,null,null,null,null,"南アルプス市・甲斐市・中央市陸協"]
[]
[null,31]
[null,"個","性別","種　別",null,null,"種　目","氏　　　　名",null,null,null,"番　号",null,null,"所　　属"]
[null,"人",{"$f":"男子!E41","v":0},{"$f":"男子!F41","v":0},null,null,{"$f":"男子!H41","v":0},{"$f":"男子!D41","v":0},null,null,null,{"$f":"男子!C41","v":0},null,null,{"$f":"男子!G41","v":0}]
[null,"申"]
[null,"込","最  近 の 記 録",null,null,null,null,null,null,"ベスト記録"]
[null,"票","   ※男子は黒字書き、女子は赤字書きとする。　",null,null,null,null,null,null,null,null,"南アルプス市・甲斐市・中央市陸協"]
[]
[null,32]
[null,"個","性別","種　別",null,null,"種　目","氏　　　　名",null,null,null,"番　号",null,null,"所　　属"]
[null,"人",{"$f":"男子!E42","v":0},{"$f":"男子!F42","v":0},null,null,{"$f":"男子!H42","v":0},{"$f":"男子!D42","v":0},null,null,null,{"$f":"男子!C42","v":0},null,null,{"$f":"男子!G42","v":0}]
[null,"申"]
[null,"込","最  近 の 記 録",null,null,null,null,null,null,"ベスト記録"]
[null,"票","   ※男子は黒字書き、女子は赤字書きとする。　",null,null,null,null,null,null,null,null,"南アルプス市・甲斐市・中央市陸協"]
[]
[]
[null,33]
[null,"個","性別","種　別",null,null,"種　目","氏　　　　名",null,null,null,"番　号",null,null,"所　　属"]
[null,"人",{"$f":"男子!E43","v":0},{"$f":"男子!F43","v":0},null,null,{"$f":"男子!H43","v":0},{"$f":"男子!D43","v":0},null,null,null,{"$f":"男子!C43","v":0},null,null,{"$f":"男子!G43","v":0}]
[null,"申"]
[null,"込","最  近 の 記 録",null,null,null,null,null,null,"ベスト記録"]
[null,"票","   ※男子は黒字書き、女子は赤字書きとする。　",null,null,null,null,null,null,null,null,"南アルプス市・甲斐市・中央市陸協"]
[]
[null,34]
[null,"個","性別","種　別",null,null,"種　目","氏　　　　名",null,null,null,"番　号",null,null,"所　　属"]
[null,"人",{"$f":"男子!E44","v":0},{"$f":"男子!F44","v":0},null,null,{"$f":"男子!H44","v":0},{"$f":"男子!D44","v":0},null,null,null,{"$f":"男子!C44","v":0},null,null,{"$f":"男子!G44","v":0}]
[null,"申"]
[null,"込","最  近 の 記 録",null,null,null,null,null,null,"ベスト記録"]
[null,"票","   ※男子は黒字書き、女子は赤字書きとする。　",null,null,null,null,null,null,null,null,"南アルプス市・甲斐市・中央市陸協"]
[]
[null,35]
[null,"個","性別","種　別",null,null,"種　目","氏　　　　名",null,null,null,"番　号",null,null,"所　　属"]
[null,"人",{"$f":"男子!E45","v":0},{"$f":"男子!F45","v":0},null,null,{"$f":"男子!H45","v":0},{"$f":"男子!D45","v":0},null,null,null,{"$f":"男子!C45","v":0},null,null,{"$f":"男子!G45","v":0}]
[null,"申"]
[null,"込","最  近 の 記 録",null,null,null,null,null,null,"ベスト記録"]
[null,"票","   ※男子は黒字書き、女子は赤字書きとする。　",null,null,null,null,null,null,null,null,"南アルプス市・甲斐市・中央市陸協"]
[]
[null,36]
[null,"個","性別","種　別",null,null,"種　目","氏　　　　名",null,null,null,"番　号",null,null,"所　　属"]
[null,"人",{"$f":"男子!E46","v":0},{"$f":"男子!F46","v":0},null,null,{"$f":"男子!H46","v":0},{"$f":"男子!D46","v":0},null,null,null,{"$f":"男子!C46","v":0},null,null,{"$f":"男子!G46","v":0}]
[null,"申"]
[null,"込","最  近 の 記 録",null,null,null,null,null,null,"ベスト記録"]
[null,"票","   ※男子は黒字書き、女子は赤字書きとする。　",null,null,null,null,null,null,null,null,"南アルプス市・甲斐市・中央市陸協"]
[]
[null,37]
[null,"個","性別","種　別",null,null,"種　目","氏　　　　名",null,null,null,"番　号",null,null,"所　　属"]
[null,"人",{"$f":"男子!E47","v":0},{"$f":"男子!F47","v":0},null,null,{"$f":"男子!H47","v":0},{"$f":"男子!D47","v":0},null,null,null,{"$f":"男子!C47","v":0},null,null,{"$f":"男子!G47","v":0}]
[null,"申"]
[null,"込","最  近 の 記 録",null,null,null,null,null,null,"ベスト記録"]
[null,"票","   ※男子は黒字書き、女子は赤字書きとする。　",null,null,null,null,null,null,null,null,"南アルプス市・甲斐市・中央市陸協"]
[]
[null,38]
[null,"個","性別","種　別",null,null,"種　目","氏　　　　名",null,null,null,"番　号",null,null,"所　　属"]
[null,"人",{"$f":"男子!E48","v":0},{"$f":"男子!F48","v":0},null,null,{"$f":"男子!H48","v":0},{"$f":"男子!D48","v":0},null,null,null,{"$f":"男子!C48","v":0},null,null,{"$f":"男子!G48","v":0}]
[null,"申"]
[null,"込","最  近 の 記 録",null,null,null,null,null,null,"ベスト記録"]
[null,"票","   ※男子は黒字書き、女子は赤字書きとする。　",null,null,null,null,null,null,null,null,"南アルプス市・甲斐市・中央市陸協"]
[]
[null,39]
[null,"個","性別","種　別",null,null,"種　目","氏　　　　名",null,null,null,"番　号",null,null,"所　　属"]
[null,"人",{"$f":"男子!E49","v":0},{"$f":"男子!F49","v":0},null,null,{"$f":"男子!H49","v":0},{"$f":"男子!D49","v":0},null,null,null,{"$f":"男子!C49","v":0},null,null,{"$f":"男子!G49","v":0}]
[null,"申"]
[null,"込","最  近 の 記 録",null,null,null,null,null,null,"ベスト記録"]
[null,"票","   ※男子は黒字書き、女子は赤字書きとする。　",null,null,null,null,null,null,null,null,"南アルプス市・甲斐市・中央市陸協"]
[]
[null,40]
[null,"個","性別","種　別",null,null,"種　目","氏　　　　名",null,null,null,"番　号",null,null,"所　　属"]
[null,"人",{"$f":"男子!E50","v":0},{"$f":"男子!F50","v":0},null,null,{"$f":"男子!H50","v":0},{"$f":"男子!D50","v":0},null,null,null,{"$f":"男子!C50","v":0},null,null,{"$f":"男子!G50","v":0}]
[null,"申"]
[null,"込","最  近 の 記 録",null,null,null,null,null,null,"ベスト記録"]
[null,"票","   ※男子は黒字書き、女子は赤字書きとする。　",null,null,null,null,null,null,null,null,"南アルプス市・甲斐市・中央市陸協"]
[]
[]
[null,41]
[null,"個","性別","種　別",null,null,"種　目","氏　　　　名",null,null,null,"番　号",null,null,"所　　属"]
[null,"人",{"$f":"男子!E51","v":0},{"$f":"男子!F51","v":0},null,null,{"$f":"男子!H51","v":0},{"$f":"男子!D51","v":0},null,null,null,{"$f":"男子!C51","v":0},null,null,{"$f":"男子!G51","v":0}]
[null,"申"]
[null,"込","最  近 の 記 録",null,null,null,null,null,null,"ベスト記録"]
[null,"票","   ※男子は黒字書き、女子は赤字書きとする。　",null,null,null,null,null,null,null,null,"南アルプス市・甲斐市・中央市陸協"]
[]
[null,42]
[null,"個","性別","種　別",null,null,"種　目","氏　　　　名",null,null,null,"番　号",null,null,"所　　属"]
[null,"人",{"$f":"男子!E52","v":0},{"$f":"男子!F52","v":0},null,null,{"$f":"男子!H52","v":0},{"$f":"男子!D52","v":0},null,null,null,{"$f":"男子!C52","v":0},null,null,{"$f":"男子!G52","v":0}]
[null,"申"]
[null,"込","最  近 の 記 録",null,null,null,null,null,null,"ベスト記録"]
[null,"票","   ※男子は黒字書き、女子は赤字書きとする。　",null,null,null,null,null,null,null,null,"南アルプス市・甲斐市・中央市陸協"]
[]
[null,43]
[null,"個","性別","種　別",null,null,"種　目","氏　　　　名",null,null,null,"番　号",null,null,"所　　属"]
[null,"人",{"$f":"男子!E53","v":0},{"$f":"男子!F53","v":0},null,null,{"$f":"男子!H53","v":0},{"$f":"男子!D53","v":0},null,null,null,{"$f":"男子!C53","v":0},null,null,{"$f":"男子!G53","v":0}]
[null,"申"]
[null,"込","最  近 の 記 録",null,null,null,null,null,null,"ベスト記録"]
[null,"票","   ※男子は黒字書き、女子は赤字書きとする。　",null,null,null,null,null,null,null,null,"南アルプス市・甲斐市・中央市陸協"]
[]
[null,44]
[null,"個","性別","種　別",null,null,"種　目","氏　　　　名",null,null,null,"番　号",null,null,"所　　属"]
[null,"人",{"$f":"男子!E54","v":0},{"$f":"男子!F54","v":0},null,null,{"$f":"男子!H54","v":0},{"$f":"男子!D54","v":0},null,null,null,{"$f":"男子!C54","v":0},null,null,{"$f":"男子!G54","v":0}]
[null,"申"]
[null,"込","最  近 の 記 録",null,null,null,null,null,null,"ベスト記録"]
[null,"票","   ※男子は黒字書き、女子は赤字書きとする。　",null,null,null,null,null,null,null,null,"南アルプス市・甲斐市・中央市陸協"]
[]
[null,45]
[null,"個","性別","種　別",null,null,"種　目","氏　　　　名",null,null,null,"番　号",null,null,"所　　属"]
[null,"人",{"$f":"男子!E55","v":0},{"$f":"男子!F55","v":0},null,null,{"$f":"男子!H55","v":0},{"$f":"男子!D55","v":0},null,null,null,{"$f":"男子!C55","v":0},null,null,{"$f":"男子!G55","v":0}]
[null,"申"]
[null,"込","最  近 の 記 録",null,null,null,null,null,null,"ベスト記録"]
[null,"票","   ※男子は黒字書き、女子は赤字書きとする。　",null,null,null,null,null,null,null,null,"南アルプス市・甲斐市・中央市陸協"]
[]
[null,46]
[null,"個","性別","種　別",null,null,"種　目","氏　　　　名",null,null,null,"番　号",null,null,"所　　属"]
[null,"人",{"$f":"男子!E56","v":0},{"$f":"男子!F56","v":0},null,null,{"$f":"男子!H56","v":0},{"$f":"男子!D56","v":0},null,null,null,{"$f":"男子!C56","v":0},null,null,{"$f":"男子!G56","v":0}]
[null,"申"]
[null,"込","最  近 の 記 録",null,null,null,null,null,null,"ベスト記録"]
[null,"票","   ※男子は黒字書き、女子は赤字書きとする。　",null,null,null,null,null,null,null,null,"南アルプス市・甲斐市・中央市陸協"]
[]
[null,47]
[null,"個","性別","種　別",null,null,"種　目","氏　　　　名",null,null,null,"番　号",null,null,"所　　属"]
[null,"人",{"$f":"男子!E57","v":0},{"$f":"男子!F57","v":0},null,null,{"$f":"男子!H57","v":0},{"$f":"男子!D57","v":0},null,null,null,{"$f":"男子!C57","v":0},null,null,{"$f":"男子!G57","v":0}]
[null,"申"]
[null,"込","最  近 の 記 録",null,null,null,null,null,null,"ベスト記録"]
[null,"票","   ※男子は黒字書き、女子は赤字書きとする。　",null,null,null,null,null,null,null,null,"南アルプス市・甲斐市・中央市陸協"]
[]
[null,48]
[null,"個","性別","種　別",null,null,"種　目","氏　　　　名",null,null,null,"番　号",null,null,"所　　属"]
[null,"人",{"$f":"男子!E58","v":0},{"$f":"男子!F58","v":0},null,null,{"$f":"男子!H58","v":0},{"$f":"男子!D58","v":0},null,null,null,{"$f":"男子!C58","v":0},null,null,{"$f":"男子!G58","v":0}]
[null,"申"]
[null,"込","最  近 の 記 録",null,null,null,null,null,null,"ベスト記録"]
[null,"票","   ※男子は黒字書き、女子は赤字書きとする。　",null,null,null,null,null,null,null,null,"南アルプス市・甲斐市・中央市陸協"]
[]
[]
[null,49]
[null,"個","性別","種　別",null,null,"種　目","氏　　　　名",null,null,null,"番　号",null,null,"所　　属"]
[null,"人",{"$f":"男子!E59","v":0},{"$f":"男子!F59","v":0},null,null,{"$f":"男子!H59","v":0},{"$f":"男子!D59","v":0},null,null,null,{"$f":"男子!C59","v":0},null,null,{"$f":"男子!G59","v":0}]
[null,"申"]
[null,"込","最  近 の 記 録",null,null,null,null,null,null,"ベスト記録"]
[null,"票","   ※男子は黒字書き、女子は赤字書きとする。　",null,null,null,null,null,null,null,null,"南アルプス市・甲斐市・中央市陸協"]
[]
[null,50]
[null,"個","性別","種　別",null,null,"種　目","氏　　　　名",null,null,null,"番　号",null,null,"所　　属"]
[null,"人",{"$f":"男子!E60","v":0},{"$f":"男子!F60","v":0},null,null,{"$f":"男子!H60","v":0},{"$f":"男子!D60","v":0},null,null,null,{"$f":"男子!C60","v":0},null,null,{"$f":"男子!G60","v":0}]
[null,"申"]
[null,"込","最  近 の 記 録",null,null,null,null,null,null,"ベスト記録"]
[null,"票","   ※男子は黒字書き、女子は赤字書きとする。　",null,null,null,null,null,null,null,null,"南アルプス市・甲斐市・中央市陸協"]
[]
[null,51]
[null,"個","性別","種　別",null,null,"種　目","氏　　　　名",null,null,null,"番　号",null,null,"所　　属"]
[null,"人",{"$f":"男子!E61","v":0},{"$f":"男子!F61","v":0},null,null,{"$f":"男子!H61","v":0},{"$f":"男子!D61","v":0},null,null,null,{"$f":"男子!C61","v":0},null,null,{"$f":"男子!G61","v":0}]
[null,"申"]
[null,"込","最  近 の 記 録",null,null,null,null,null,null,"ベスト記録"]
[null,"票","   ※男子は黒字書き、女子は赤字書きとする。　",null,null,null,null,null,null,null,null,"南アルプス市・甲斐市・中央市陸協"]
[]
[null,52]
[null,"個","性別","種　別",null,null,"種　目","氏　　　　名",null,null,null,"番　号",null,null,"所　　属"]
[null,"人",{"$f":"男子!E62","v":0},{"$f":"男子!F62","v":0},null,null,{"$f":"男子!H62","v":0},{"$f":"男子!D62","v":0},null,null,null,{"$f":"男子!C62","v":0},null,null,{"$f":"男子!G62","v":0}]
[null,"申"]
[null,"込","最  近 の 記 録",null,null,null,null,null,null,"ベスト記録"]
[null,"票","   ※男子は黒字書き、女子は赤字書きとする。　",null,null,null,null,null,null,null,null,"南アルプス市・甲斐市・中央市陸協"]
[]
[null,53]
[null,"個","性別","種　別",null,null,"種　目","氏　　　　名",null,null,null,"番　号",null,null,"所　　属"]
[null,"人",{"$f":"男子!E63","v":0},{"$f":"男子!F63","v":0},null,null,{"$f":"男子!H63","v":0},{"$f":"男子!D63","v":0},null,null,null,{"$f":"男子!C63","v":0},null,null,{"$f":"男子!G63","v":0}]
[null,"申"]
[null,"込","最  近 の 記 録",null,null,null,null,null,null,"ベスト記録"]
[null,"票","   ※男子は黒字書き、女子は赤字書きとする。　",null,null,null,null,null,null,null,null,"南アルプス市・甲斐市・中央市陸協"]
[]
[null,54]
[null,"個","性別","種　別",null,null,"種　目","氏　　　　名",null,null,null,"番　号",null,null,"所　　属"]
[null,"人",{"$f":"男子!E64","v":0},{"$f":"男子!F64","v":0},null,null,{"$f":"男子!H64","v":0},{"$f":"男子!D64","v":0},null,null,null,{"$f":"男子!C64","v":0},null,null,{"$f":"男子!G64","v":0}]
[null,"申"]
[null,"込","最  近 の 記 録",null,null,null,null,null,null,"ベスト記録"]
[null,"票","   ※男子は黒字書き、女子は赤字書きとする。　",null,null,null,null,null,null,null,null,"南アルプス市・甲斐市・中央市陸協"]
[]
[null,55]
[null,"個","性別","種　別",null,null,"種　目","氏　　　　名",null,null,null,"番　号",null,null,"所　　属"]
[null,"人",{"$f":"男子!E65","v":0},{"$f":"男子!F65","v":0},null,null,{"$f":"男子!H65","v":0},{"$f":"男子!D65","v":0},null,null,null,{"$f":"男子!C65","v":0},null,null,{"$f":"男子!G65","v":0}]
[null,"申"]
[null,"込","最  近 の 記 録",null,null,null,null,null,null,"ベスト記録"]
[null,"票","   ※男子は黒字書き、女子は赤字書きとする。　",null,null,null,null,null,null,null,null,"南アルプス市・甲斐市・中央市陸協"]
[]
[null,56]
[null,"個","性別","種　別",null,null,"種　目","氏　　　　名",null,null,null,"番　号",null,null,"所　　属"]
[null,"人",{"$f":"男子!E66","v":0},{"$f":"男子!F66","v":0},null,null,{"$f":"男子!H66","v":0},{"$f":"男子!D66","v":0},null,null,null,{"$f":"男子!C66","v":0},null,null,{"$f":"男子!G66","v":0}]
[null,"申"]
[null,"込","最  近 の 記 録",null,null,null,null,null,null,"ベスト記録"]
[null,"票","   ※男子は黒字書き、女子は赤字書きとする。　",null,null,null,null,null,null,null,null,"南アルプス市・甲斐市・中央市陸協"]
[]
[]
[null,57]
[null,"個","性別","種　別",null,null,"種　目","氏　　　　名",null,null,null,"番　号",null,null,"所　　属"]
[null,"人",{"$f":"男子!E67","v":0},{"$f":"男子!F67","v":0},null,null,{"$f":"男子!H67","v":0},{"$f":"男子!D67","v":0},null,null,null,{"$f":"男子!C67","v":0},null,null,{"$f":"男子!G67","v":0}]
[null,"申"]
[null,"込","最  近 の 記 録",null,null,null,null,null,null,"ベスト記録"]
[null,"票","   ※男子は黒字書き、女子は赤字書きとする。　",null,null,null,null,null,null,null,null,"南アルプス市・甲斐市・中央市陸協"]
[]
[null,58]
[null,"個","性別","種　別",null,null,"種　目","氏　　　　名",null,null,null,"番　号",null,null,"所　　属"]
[null,"人",{"$f":"男子!E68","v":0},{"$f":"男子!F68","v":0},null,null,{"$f":"男子!H68","v":0},{"$f":"男子!D68","v":0},null,null,null,{"$f":"男子!C68","v":0},null,null,{"$f":"男子!G68","v":0}]
[null,"申"]
[null,"込","最  近 の 記 録",null,null,null,null,null,null,"ベスト記録"]
[null,"票","   ※男子は黒字書き、女子は赤字書きとする。　",null,null,null,null,null,null,null,null,"南アルプス市・甲斐市・中央市陸協"]
[]
[null,59]
[null,"個","性別","種　別",null,null,"種　目","氏　　　　名",null,null,null,"番　号",null,null,"所　　属"]
[null,"人",{"$f":"男子!E69","v":0},{"$f":"男子!F69","v":0},null,null,{"$f":"男子!H69","v":0},{"$f":"男子!D69","v":0},null,null,null,{"$f":"男子!C69","v":0},null,null,{"$f":"男子!G69","v":0}]
[null,"申"]
[null,"込","最  近 の 記 録",null,null,null,null,null,null,"ベスト記録"]
[null,"票","   ※男子は黒字書き、女子は赤字書きとする。　",null,null,null,null,null,null,null,null,"南アルプス市・甲斐市・中央市陸協"]
[]
[null,60]
[null,"個","性別","種　別",null,null,"種　目","氏　　　　名",null,null,null,"番　号",null,null,"所　　属"]
[null,"人",{"$f":"男子!E70","v":0},{"$f":"男子!F70","v":0},null,null,{"$f":"男子!H70","v":0},{"$f":"男子!D70","v":0},null,null,null,{"$f":"男子!C70","v":0},null,null,{"$f":"男子!G70","v":0}]
[null,"申"]
[null,"込","最  近 の 記 録",null,null,null,null,null,null,"ベスト記録"]
[null,"票","   ※男子は黒字書き、女子は赤字書きとする。　",null,null,null,null,null,null,null,null,"南アルプス市・甲斐市・中央市陸協"]
[]
[null,61]
[null,"個","性別","種　別",null,null,"種　目","氏　　　　名",null,null,null,"番　号",null,null,"所　　属"]
[null,"人",{"$f":"男子!E71","v":0},{"$f":"男子!F71","v":0},null,null,{"$f":"男子!H71","v":0},{"$f":"男子!D71","v":0},null,null,null,{"$f":"男子!C71","v":0},null,null,{"$f":"男子!G71","v":0}]
[null,"申"]
[null,"込","最  近 の 記 録",null,null,null,null,null,null,"ベスト記録"]
[null,"票","   ※男子は黒字書き、女子は赤字書きとする。　",null,null,null,null,null,null,null,null,"南アルプス市・甲斐市・中央市陸協"]
[]
[null,62]
[null,"個","性別","種　別",null,null,"種　目","氏　　　　名",null,null,null,"番　号",null,null,"所　　属"]
[null,"人",{"$f":"男子!E72","v":0},{"$f":"男子!F72","v":0},null,null,{"$f":"男子!H72","v":0},{"$f":"男子!D72","v":0},null,null,null,{"$f":"男子!C72","v":0},null,null,{"$f":"男子!G72","v":0}]
[null,"申"]
[null,"込","最  近 の 記 録",null,null,null,null,null,null,"ベスト記録"]
[null,"票","   ※男子は黒字書き、女子は赤字書きとする。　",null,null,null,null,null,null,null,null,"南アルプス市・甲斐市・中央市陸協"]
[]
[null,63]
[null,"個","性別","種　別",null,null,"種　目","氏　　　　名",null,null,null,"番　号",null,null,"所　　属"]
[null,"人",{"$f":"男子!E73","v":0},{"$f":"男子!F73","v":0},null,null,{"$f":"男子!H73","v":0},{"$f":"男子!D73","v":0},null,null,null,{"$f":"男子!C73","v":0},null,null,{"$f":"男子!G73","v":0}]
[null,"申"]
[null,"込","最  近 の 記 録",null,null,null,null,null,null,"ベスト記録"]
[null,"票","   ※男子は黒字書き、女子は赤字書きとする。　",null,null,null,null,null,null,null,null,"南アルプス市・甲斐市・中央市陸協"]
[]
[null,64]
[null,"個","性別","種　別",null,null,"種　目","氏　　　　名",null,null,null,"番　号",null,null,"所　　属"]
[null,"人",{"$f":"男子!E74","v":0},{"$f":"男子!F74","v":0},null,null,{"$f":"男子!H74","v":0},{"$f":"男子!D74","v":0},null,null,null,{"$f":"男子!C74","v":0},null,null,{"$f":"男子!G74","v":0}]
[null,"申"]
[null,"込","最  近 の 記 録",null,null,null,null,null,null,"ベスト記録"]
[null,"票","   ※男子は黒字書き、女子は赤字書きとする。　",null,null,null,null,null,null,null,null,"南アルプス市・甲斐市・中央市陸協"]
[]
[]
[null,65]
[null,"個","性別","種　別",null,null,"種　目","氏　　　　名",null,null,null,"番　号",null,null,"所　　属"]
[null,"人",{"$f":"男子!E75","v":0},{"$f":"男子!F75","v":0},null,null,{"$f":"男子!H75","v":0},{"$f":"男子!D75","v":0},null,null,null,{"$f":"男子!C75","v":0},null,null,{"$f":"男子!G75","v":0}]
[null,"申"]
[null,"込","最  近 の 記 録",null,null,null,null,null,null,"ベスト記録"]
[null,"票","   ※男子は黒字書き、女子は赤字書きとする。　",null,null,null,null,null,null,null,null,"南アルプス市・甲斐市・中央市陸協"]
[]
[null,66]
[null,"個","性別","種　別",null,null,"種　目","氏　　　　名",null,null,null,"番　号",null,null,"所　　属"]
[null,"人",{"$f":"男子!E76","v":0},{"$f":"男子!F76","v":0},null,null,{"$f":"男子!H76","v":0},{"$f":"男子!D76","v":0},null,null,null,{"$f":"男子!C76","v":0},null,null,{"$f":"男子!G76","v":0}]
[null,"申"]
[null,"込","最  近 の 記 録",null,null,null,null,null,null,"ベスト記録"]
[null,"票","   ※男子は黒字書き、女子は赤字書きとする。　",null,null,null,null,null,null,null,null,"南アルプス市・甲斐市・中央市陸協"]
[]
[null,67]
[null,"個","性別","種　別",null,null,"種　目","氏　　　　名",null,null,null,"番　号",null,null,"所　　属"]
[null,"人",{"$f":"男子!E77","v":0},{"$f":"男子!F77","v":0},null,null,{"$f":"男子!H77","v":0},{"$f":"男子!D77","v":0},null,null,null,{"$f":"男子!C77","v":0},null,null,{"$f":"男子!G77","v":0}]
[null,"申"]
[null,"込","最  近 の 記 録",null,null,null,null,null,null,"ベスト記録"]
[null,"票","   ※男子は黒字書き、女子は赤字書きとする。　",null,null,null,null,null,null,null,null,"南アルプス市・甲斐市・中央市陸協"]
[]
[null,68]
[null,"個","性別","種　別",null,null,"種　目","氏　　　　名",null,null,null,"番　号",null,null,"所　　属"]
[null,"人",{"$f":"男子!E78","v":0},{"$f":"男子!F78","v":0},null,null,{"$f":"男子!H78","v":0},{"$f":"男子!D78","v":0},null,null,null,{"$f":"男子!C78","v":0},null,null,{"$f":"男子!G78","v":0}]
[null,"申"]
[null,"込","最  近 の 記 録",null,null,null,null,null,null,"ベスト記録"]
[null,"票","   ※男子は黒字書き、女子は赤字書きとする。　",null,null,null,null,null,null,null,null,"南アルプス市・甲斐市・中央市陸協"]
[]
[null,69]
[null,"個","性別","種　別",null,null,"種　目","氏　　　　名",null,null,null,"番　号",null,null,"所　　属"]
[null,"人",{"$f":"男子!E79","v":0},{"$f":"男子!F79","v":0},null,null,{"$f":"男子!H79","v":0},{"$f":"男子!D79","v":0},null,null,null,{"$f":"男子!C79","v":0},null,null,{"$f":"男子!G79","v":0}]
[null,"申"]
[null,"込","最  近 の 記 録",null,null,null,null,null,null,"ベスト記録"]
[null,"票","   ※男子は黒字書き、女子は赤字書きとする。　",null,null,null,null,null,null,null,null,"南アルプス市・甲斐市・中央市陸協"]
[]
[null,70]
[null,"個","性別","種　別",null,null,"種　目","氏　　　　名",null,null,null,"番　号",null,null,"所　　属"]
[null,"人",{"$f":"男子!E80","v":0},{"$f":"男子!F80","v":0},null,null,{"$f":"男子!H80","v":0},{"$f":"男子!D80","v":0},null,null,null,{"$f":"男子!C80","v":0},null,null,{"$f":"男子!G80","v":0}]
[null,"申"]
[null,"込","最  近 の 記 録",null,null,null,null,null,null,"ベスト記録"]
[null,"票","   ※男子は黒字書き、女子は赤字書きとする。　",null,null,null,null,null,null,null,null,"南アルプス市・甲斐市・中央市陸協"]
[]
[null,71]
[null,"個","性別","種　別",null,null,"種　目","氏　　　　名",null,null,null,"番　号",null,null,"所　　属"]
[null,"人",{"$f":"男子!E81","v":0},{"$f":"男子!F81","v":0},null,null,{"$f":"男子!H81","v":0},{"$f":"男子!D81","v":0},null,null,null,{"$f":"男子!C81","v":0},null,null,{"$f":"男子!G81","v":0}]
[null,"申"]
[null,"込","最  近 の 記 録",null,null,null,null,null,null,"ベスト記録"]
[null,"票","   ※男子は黒字書き、女子は赤字書きとする。　",null,null,null,null,null,null,null,null,"南アルプス市・甲斐市・中央市陸協"]
[]
[null,72]
[null,"個","性別","種　別",null,null,"種　目","氏　　　　名",null,null,null,"番　号",null,null,"所　　属"]
[null,"人",{"$f":"男子!E82","v":0},{"$f":"男子!F82","v":0},null,null,{"$f":"男子!H82","v":0},{"$f":"男子!D82","v":0},null,null,null,{"$f":"男子!C82","v":0},null,null,{"$f":"男子!G82","v":0}]
[null,"申"]
[null,"込","最  近 の 記 録",null,null,null,null,null,null,"ベスト記録"]
[null,"票","   ※男子は黒字書き、女子は赤字書きとする。　",null,null,null,null,null,null,null,null,"南アルプス市・甲斐市・中央市陸協"]
[]
[]
[null,73]
[null,"個","性別","種　別",null,null,"種　目","氏　　　　名",null,null,null,"番　号",null,null,"所　　属"]
[null,"人",{"$f":"男子!E83","v":0},{"$f":"男子!F83","v":0},null,null,{"$f":"男子!H83","v":0},{"$f":"男子!D83","v":0},null,null,null,{"$f":"男子!C83","v":0},null,null,{"$f":"男子!G83","v":0}]
[null,"申"]
[null,"込","最  近 の 記 録",null,null,null,null,null,null,"ベスト記録"]
[null,"票","   ※男子は黒字書き、女子は赤字書きとする。　",null,null,null,null,null,null,null,null,"南アルプス市・甲斐市・中央市陸協"]
[]
[null,74]
[null,"個","性別","種　別",null,null,"種　目","氏　　　　名",null,null,null,"番　号",null,null,"所　　属"]
[null,"人",{"$f":"男子!E84","v":0},{"$f":"男子!F84","v":0},null,null,{"$f":"男子!H84","v":0},{"$f":"男子!D84","v":0},null,null,null,{"$f":"男子!C84","v":0},null,null,{"$f":"男子!G84","v":0}]
[null,"申"]
[null,"込","最  近 の 記 録",null,null,null,null,null,null,"ベスト記録"]
[null,"票","   ※男子は黒字書き、女子は赤字書きとする。　",null,null,null,null,null,null,null,null,"南アルプス市・甲斐市・中央市陸協"]
[]
[null,75]
[null,"個","性別","種　別",null,null,"種　目","氏　　　　名",null,null,null,"番　号",null,null,"所　　属"]
[null,"人",{"$f":"男子!E85","v":0},{"$f":"男子!F85","v":0},null,null,{"$f":"男子!H85","v":0},{"$f":"男子!D85","v":0},null,null,null,{"$f":"男子!C85","v":0},null,null,{"$f":"男子!G85","v":0}]
[null,"申"]
[null,"込","最  近 の 記 録",null,null,null,null,null,null,"ベスト記録"]
[null,"票","   ※男子は黒字書き、女子は赤字書きとする。　",null,null,null,null,null,null,null,null,"南アルプス市・甲斐市・中央市陸協"]
[]
[null,76]
[null,"個","性別","種　別",null,null,"種　目","氏　　　　名",null,null,null,"番　号",null,null,"所　　属"]
[null,"人",{"$f":"男子!E86","v":0},{"$f":"男子!F86","v":0},null,null,{"$f":"男子!H86","v":0},{"$f":"男子!D86","v":0},null,null,null,{"$f":"男子!C86","v":0},null,null,{"$f":"男子!G86","v":0}]
[null,"申"]
[null,"込","最  近 の 記 録",null,null,null,null,null,null,"ベスト記録"]
[null,"票","   ※男子は黒字書き、女子は赤字書きとする。　",null,null,null,null,null,null,null,null,"南アルプス市・甲斐市・中央市陸協"]
[]
[null,77]
[null,"個","性別","種　別",null,null,"種　目","氏　　　　名",null,null,null,"番　号",null,null,"所　　属"]
[null,"人",{"$f":"男子!E87","v":0},{"$f":"男子!F87","v":0},null,null,{"$f":"男子!H87","v":0},{"$f":"男子!D87","v":0},null,null,null,{"$f":"男子!C87","v":0},null,null,{"$f":"男子!G87","v":0}]
[null,"申"]
[null,"込","最  近 の 記 録",null,null,null,null,null,null,"ベスト記録"]
[null,"票","   ※男子は黒字書き、女子は赤字書きとする。　",null,null,null,null,null,null,null,null,"南アルプス市・甲斐市・中央市陸協"]
[]
[null,78]
[null,"個","性別","種　別",null,null,"種　目","氏　　　　名",null,null,null,"番　号",null,null,"所　　属"]
[null,"人",{"$f":"男子!E88","v":0},{"$f":"男子!F88","v":0},null,null,{"$f":"男子!H88","v":0},{"$f":"男子!D88","v":0},null,null,null,{"$f":"男子!C88","v":0},null,null,{"$f":"男子!G88","v":0}]
[null,"申"]
[null,"込","最  近 の 記 録",null,null,null,null,null,null,"ベスト記録"]
[null,"票","   ※男子は黒字書き、女子は赤字書きとする。　",null,null,null,null,null,null,null,null,"南アルプス市・甲斐市・中央市陸協"]
[]
[null,79]
[null,"個","性別","種　別",null,null,"種　目","氏　　　　名",null,null,null,"番　号",null,null,"所　　属"]
[null,"人",{"$f":"男子!E89","v":0},{"$f":"男子!F89","v":0},null,null,{"$f":"男子!H89","v":0},{"$f":"男子!D89","v":0},null,null,null,{"$f":"男子!C89","v":0},null,null,{"$f":"男子!G89","v":0}]
[null,"申"]
[null,"込","最  近 の 記 録",null,null,null,null,null,null,"ベスト記録"]
[null,"票","   ※男子は黒字書き、女子は赤字書きとする。　",null,null,null,null,null,null,null,null,"南アルプス市・甲斐市・中央市陸協"]
[]
[null,80]
[null,"個","性別","種　別",null,null,"種　目","氏　　　　名",null,null,null,"番　号",null,null,"所　　属"]
[null,"人",{"$f":"男子!E90","v":0},{"$f":"男子!F90","v":0},null,null,{"$f":"男子!H90","v":0},{"$f":"男子!D90","v":0},null,null,null,{"$f":"男子!C90","v":0},null,null,{"$f":"男子!G90","v":0}]
[null,"申"]
[null,"込","最  近 の 記 録",null,null,null,null,null,null,"ベスト記録"]
[null,"票","   ※男子は黒字書き、女子は赤字書きとする。　",null,null,null,null,null,null,null,null,"南アルプス市・甲斐市・中央市陸協"]
[]
[]
[null,81]
[null,"個","性別","種　別",null,null,"種　目","氏　　　　名",null,null,null,"番　号",null,null,"所　　属"]
[null,"人",{"$f":"男子!E91","v":0},{"$f":"男子!F91","v":0},null,null,{"$f":"男子!H91","v":0},{"$f":"男子!D91","v":0},null,null,null,{"$f":"男子!C91","v":0},null,null,{"$f":"男子!G91","v":0}]
[null,"申"]
[null,"込","最  近 の 記 録",null,null,null,null,null,null,"ベスト記録"]
[null,"票","   ※男子は黒字書き、女子は赤字書きとする。　",null,null,null,null,null,null,null,null,"南アルプス市・甲斐市・中央市陸協"]
[]
[null,82]
[null,"個","性別","種　別",null,null,"種　目","氏　　　　名",null,null,null,"番　号",null,null,"所　　属"]
[null,"人",{"$f":"男子!E92","v":0},{"$f":"男子!F92","v":0},null,null,{"$f":"男子!H92","v":0},{"$f":"男子!D92","v":0},null,null,null,{"$f":"男子!C92","v":0},null,null,{"$f":"男子!G92","v":0}]
[null,"申"]
[null,"込","最  近 の 記 録",null,null,null,null,null,null,"ベスト記録"]
[null,"票","   ※男子は黒字書き、女子は赤字書きとする。　",null,null,null,null,null,null,null,null,"南アルプス市・甲斐市・中央市陸協"]
[]
[null,83]
[null,"個","性別","種　別",null,null,"種　目","氏　　　　名",null,null,null,"番　号",null,null,"所　　属"]
[null,"人",{"$f":"男子!E93","v":0},{"$f":"男子!F93","v":0},null,null,{"$f":"男子!H93","v":0},{"$f":"男子!D93","v":0},null,null,null,{"$f":"男子!C93","v":0},null,null,{"$f":"男子!G93","v":0}]
[null,"申"]
[null,"込","最  近 の 記 録",null,null,null,null,null,null,"ベスト記録"]
[null,"票","   ※男子は黒字書き、女子は赤字書きとする。　",null,null,null,null,null,null,null,null,"南アルプス市・甲斐市・中央市陸協"]
[]
[null,84]
[null,"個","性別","種　別",null,null,"種　目","氏　　　　名",null,null,null,"番　号",null,null,"所　　属"]
[null,"人",{"$f":"男子!E94","v":0},{"$f":"男子!F94","v":0},null,null,{"$f":"男子!H94","v":0},{"$f":"男子!D94","v":0},null,null,null,{"$f":"男子!C94","v":0},null,null,{"$f":"男子!G94","v":0}]
[null,"申"]
[null,"込","最  近 の 記 録",null,null,null,null,null,null,"ベスト記録"]
[null,"票","   ※男子は黒字書き、女子は赤字書きとする。　",null,null,null,null,null,null,null,null,"南アルプス市・甲斐市・中央市陸協"]
[]
[null,85]
[null,"個","性別","種　別",null,null,"種　目","氏　　　　名",null,null,null,"番　号",null,null,"所　　属"]
[null,"人",{"$f":"男子!E95","v":0},{"$f":"男子!F95","v":0},null,null,{"$f":"男子!H95","v":0},{"$f":"男子!D95","v":0},null,null,null,{"$f":"男子!C95","v":0},null,null,{"$f":"男子!G95","v":0}]
[null,"申"]
[null,"込","最  近 の 記 録",null,null,null,null,null,null,"ベスト記録"]
[null,"票","   ※男子は黒字書き、女子は赤字書きとする。　",null,null,null,null,null,null,null,null,"南アルプス市・甲斐市・中央市陸協"]
[]
[null,86]
[null,"個","性別","種　別",null,null,"種　目","氏　　　　名",null,null,null,"番　号",null,null,"所　　属"]
[null,"人",{"$f":"男子!E96","v":0},{"$f":"男子!F96","v":0},null,null,{"$f":"男子!H96","v":0},{"$f":"男子!D96","v":0},null,null,null,{"$f":"男子!C96","v":0},null,null,{"$f":"男子!G96","v":0}]
[null,"申"]
[null,"込","最  近 の 記 録",null,null,null,null,null,null,"ベスト記録"]
[null,"票","   ※男子は黒字書き、女子は赤字書きとする。　",null,null,null,null,null,null,null,null,"南アルプス市・甲斐市・中央市陸協"]
[]
[null,87]
[null,"個","性別","種　別",null,null,"種　目","氏　　　　名",null,null,null,"番　号",null,null,"所　　属"]
[null,"人",{"$f":"男子!E97","v":0},{"$f":"男子!F97","v":0},null,null,{"$f":"男子!H97","v":0},{"$f":"男子!D97","v":0},null,null,null,{"$f":"男子!C97","v":0},null,null,{"$f":"男子!G97","v":0}]
[null,"申"]
[null,"込","最  近 の 記 録",null,null,null,null,null,null,"ベスト記録"]
[null,"票","   ※男子は黒字書き、女子は赤字書きとする。　",null,null,null,null,null,null,null,null,"南アルプス市・甲斐市・中央市陸協"]
[]
[]
[null,88]
[null,"個","性別","種　別",null,null,"種　目","氏　　　　名",null,null,null,"番　号",null,null,"所　　属"]
[null,"人",{"$f":"男子!E98","v":0},{"$f":"男子!F98","v":0},null,null,{"$f":"男子!H98","v":0},{"$f":"男子!D98","v":0},null,null,null,{"$f":"男子!C98","v":0},null,null,{"$f":"男子!G98","v":0}]
[null,"申"]
[null,"込","最  近 の 記 録",null,null,null,null,null,null,"ベスト記録"]
[null,"票","   ※男子は黒字書き、女子は赤字書きとする。　",null,null,null,null,null,null,null,null,"南アルプス市・甲斐市・中央市陸協"]
[]
[null,89]
[null,"個","性別","種　別",null,null,"種　目","氏　　　　名",null,null,null,"番　号",null,null,"所　　属"]
[null,"人",{"$f":"男子!E99","v":0},{"$f":"男子!F99","v":0},null,null,{"$f":"男子!H99","v":0},{"$f":"男子!D99","v":0},null,null,null,{"$f":"男子!C99","v":0},null,null,{"$f":"男子!G99","v":0}]
[null,"申"]
[null,"込","最  近 の 記 録",null,null,null,null,null,null,"ベスト記録"]
[null,"票","   ※男子は黒字書き、女子は赤字書きとする。　",null,null,null,null,null,null,null,null,"南アルプス市・甲斐市・中央市陸協"]
[]
[null,90]
[null,"個","性別","種　別",null,null,"種　目","氏　　　　名",null,null,null,"番　号",null,null,"所　　属"]
[null,"人",{"$f":"男子!E100","v":0},{"$f":"男子!F100","v":0},null,null,{"$f":"男子!H100","v":0},{"$f":"男子!D100","v":0},null,null,null,{"$f":"男子!C100","v":0},null,null,{"$f":"男子!G100","v":0}]
[null,"申"]
[null,"込","最  近 の 記 録",null,null,null,null,null,null,"ベスト記録"]
[null,"票","   ※男子は黒字書き、女子は赤字書きとする。　",null,null,null,null,null,null,null,null,"南アルプス市・甲斐市・中央市陸協"]
[]
[null,91]
[null,"個","性別","種　別",null,null,"種　目","氏　　　　名",null,null,null,"番　号",null,null,"所　　属"]
[null,"人",{"$f":"男子!E101","v":0},{"$f":"男子!F101","v":0},null,null,{"$f":"男子!H101","v":0},{"$f":"男子!D101","v":0},null,null,null,{"$f":"男子!C101","v":0},null,null,{"$f":"男子!G101","v":0}]
[null,"申"]
[null,"込","最  近 の 記 録",null,null,null,null,null,null,"ベスト記録"]
[null,"票","   ※男子は黒字書き、女子は赤字書きとする。　",null,null,null,null,null,null,null,null,"南アルプス市・甲斐市・中央市陸協"]
[]
[null,92]
[null,"個","性別","種　別",null,null,"種　目","氏　　　　名",null,null,null,"番　号",null,null,"所　　属"]
[null,"人",{"$f":"男子!E102","v":0},{"$f":"男子!F102","v":0},null,null,{"$f":"男子!H102","v":0},{"$f":"男子!D102","v":0},null,null,null,{"$f":"男子!C102","v":0},null,null,{"$f":"男子!G102","v":0}]
[null,"申"]
[null,"込","最  近 の 記 録",null,null,null,null,null,null,"ベスト記録"]
[null,"票","   ※男子は黒字書き、女子は赤字書きとする。　",null,null,null,null,null,null,null,null,"南アルプス市・甲斐市・中央市陸協"]
[]
[null,93]
[null,"個","性別","種　別",null,null,"種　目","氏　　　　名",null,null,null,"番　号",null,null,"所　　属"]
[null,"人",{"$f":"男子!E103","v":0},{"$f":"男子!F103","v":0},null,null,{"$f":"男子!H103","v":0},{"$f":"男子!D103","v":0},null,null,null,{"$f":"男子!C103","v":0},null,null,{"$f":"男子!G103","v":0}]
[null,"申"]
[null,"込","最  近 の 記 録",null,null,null,null,null,null,"ベスト記録"]
[null,"票","   ※男子は黒字書き、女子は赤字書きとする。　",null,null,null,null,null,null,null,null,"南アルプス市・甲斐市・中央市陸協"]
[]
[null,94]
[null,"個","性別","種　別",null,null,"種　目","氏　　　　名",null,null,null,"番　号",null,null,"所　　属"]
[null,"人",{"$f":"男子!E104","v":0},{"$f":"男子!F104","v":0},null,null,{"$f":"男子!H104","v":0},{"$f":"男子!D104","v":0},null,null,null,{"$f":"男子!C104","v":0},null,null,{"$f":"男子!G104","v":0}]
[null,"申"]
[null,"込","最  近 の 記 録",null,null,null,null,null,null,"ベスト記録"]
[null,"票","   ※男子は黒字書き、女子は赤字書きとする。　",null,null,null,null,null,null,null,null,"南アルプス市・甲斐市・中央市陸協"]
[]
[null,95]
[null,"個","性別","種　別",null,null,"種　目","氏　　　　名",null,null,null,"番　号",null,null,"所　　属"]
[null,"人",{"$f":"男子!E105","v":0},{"$f":"男子!F105","v":0},null,null,{"$f":"男子!H105","v":0},{"$f":"男子!D105","v":0},null,null,null,{"$f":"男子!C105","v":0},null,null,{"$f":"男子!G105","v":0}]
[null,"申"]
[null,"込","最  近 の 記 録",null,null,null,null,null,null,"ベスト記録"]
[null,"票","   ※男子は黒字書き、女子は赤字書きとする。　",null,null,null,null,null,null,null,null,"南アルプス市・甲斐市・中央市陸協"]
[]
[]
[null,96]
[null,"個","性別","種　別",null,null,"種　目","氏　　　　名",null,null,null,"番　号",null,null,"所　　属"]
[null,"人",{"$f":"男子!E106","v":0},{"$f":"男子!F106","v":0},null,null,{"$f":"男子!H106","v":0},{"$f":"男子!D106","v":0},null,null,null,{"$f":"男子!C106","v":0},null,null,{"$f":"男子!G106","v":0}]
[null,"申"]
[null,"込","最  近 の 記 録",null,null,null,null,null,null,"ベスト記録"]
[null,"票","   ※男子は黒字書き、女子は赤字書きとする。　",null,null,null,null,null,null,null,null,"南アルプス市・甲斐市・中央市陸協"]
[]
[null,97]
[null,"個","性別","種　別",null,null,"種　目","氏　　　　名",null,null,null,"番　号",null,null,"所　　属"]
[null,"人",{"$f":"男子!E107","v":0},{"$f":"男子!F107","v":0},null,null,{"$f":"男子!H107","v":0},{"$f":"男子!D107","v":0},null,null,null,{"$f":"男子!C107","v":0},null,null,{"$f":"男子!G107","v":0}]
[null,"申"]
[null,"込","最  近 の 記 録",null,null,null,null,null,null,"ベスト記録"]
[null,"票","   ※男子は黒字書き、女子は赤字書きとする。　",null,null,null,null,null,null,null,null,"南アルプス市・甲斐市・中央市陸協"]
[]
[null,98]
[null,"個","性別","種　別",null,null,"種　目","氏　　　　名",null,null,null,"番　号",null,null,"所　　属"]
[null,"人",{"$f":"男子!E108","v":0},{"$f":"男子!F108","v":0},null,null,{"$f":"男子!H108","v":0},{"$f":"男子!D108","v":0},null,null,null,{"$f":"男子!C108","v":0},null,null,{"$f":"男子!G108","v":0}]
[null,"申"]
[null,"込","最  近 の 記 録",null,null,null,null,null,null,"ベスト記録"]
[null,"票","   ※男子は黒字書き、女子は赤字書きとする。　",null,null,null,null,null,null,null,null,"南アルプス市・甲斐市・中央市陸協"]
[]
[null,99]
[null,"個","性別","種　別",null,null,"種　目","氏　　　　名",null,null,null,"番　号",null,null,"所　　属"]
[null,"人",{"$f":"男子!E109","v":0},{"$f":"男子!F109","v":0},null,null,{"$f":"男子!H109","v":0},{"$f":"男子!D109","v":0},null,null,null,{"$f":"男子!C109","v":0},null,null,{"$f":"男子!G109","v":0}]
[null,"申"]
[null,"込","最  近 の 記 録",null,null,null,null,null,null,"ベスト記録"]
[null,"票","   ※男子は黒字書き、女子は赤字書きとする。　",null,null,null,null,null,null,null,null,"南アルプス市・甲斐市・中央市陸協"]
[]
[null,100]
[null,"個","性別","種　別",null,null,"種　目","氏　　　　名",null,null,null,"番　号",null,null,"所　　属"]
[null,"人",{"$f":"男子!E110","v":0},{"$f":"男子!F110","v":0},null,null,{"$f":"男子!H110","v":0},{"$f":"男子!D110","v":0},null,null,null,{"$f":"男子!C110","v":0},null,null,{"$f":"男子!G110","v":0}]
[null,"申"]
[null,"込","最  近 の 記 録",null,null,null,null,null,null,"ベスト記録"]
[null,"票","   ※男子は黒字書き、女子は赤字書きとする。　",null,null,null,null,null,null,null,null,"南アルプス市・甲斐市・中央市陸協"]

{"sheet":"個票女子","index":3,"n_rows":712,"n_cols":15,"rows_kept":712,"cut":false,"hidden":false,"merged":[[710,2,710,5],[710,6,710,8],[710,9,710,10],[710,11,710,15],[711,2,711,10],[711,11,711,15],[707,3,707,5],[707,7,707,10],[707,11,707,13],[707,14,707,15],[708,2,709,2],[708,3,709,5],[708,6,709,6],[708,7,709,10],[708,11,709,13],[708,14,709,15],[703,2,703,5],[703,6,703,8],[703,9,703,10],[703,11,703,15],[704,2,704,10],[704,11,704,15],[700,3,700,5],[700,7,700,10],[700,11,700,13],[700,14,700,15],[701,2,702,2],[701,3,702,5],[701,6,702,6],[701,7,702,10],[701,11,702,13],[701,14,702,15],[696,2,696,5],[696,6,696,8],[696,9,696,10],[696,11,696,15],[697,2,697,10],[697,11,697,15],[693,3,693,5],[693,7,693,10],[693,11,693,13],[693,14,693,15],[694,2,695,2],[694,3,695,5],[694,6,695,6],[694,7,695,10],[694,11,695,13],[694,14,695,15],[689,2,689,5],[689,6,689,8],[689,9,689,10],[689,11,689,15],[690,2,690,10],[690,11,690,15],[686,3,686,5],[686,7,686,10],[686,11,686,13],[686,14,686,15],[687,2,688,2],[687,3,688,5],[687,6,688,6],[687,7,688,10],[687,11,688,13],[687,14,688,15],[682,2,682,5],[682,6,682,8],[682,9,682,10],[682,11,682,15],[683,2,683,10],[683,11,683,15],[679,3,679,5],[679,7,679,10],[679,11,679,13],[679,14,679,15],[680,2,681,2],[680,3,681,5],[680,6,681,6],[680,7,681,10],[680,11,681,13],[680,14,681,15],[674,2,674,5],[674,6,674,8],[674,9,674,10],[674,11,674,15],[675,2,675,10],[675,11,675,15],[671,3,671,5],[671,7,671,10],[671,11,671,13],[671,14,671,15],[672,2,673,2],[672,3,673,5],[672,6,673,6],[672,7,673,10],[672,11,673,13],[672,14,673,15],[667,2,667,5],[667,6,667,8],[667,9,667,10],[667,11,667,15],[668,2,668,10],[668,11,668,15],[664,3,664,5],[664,7,664,10],[664,11,664,13],[664,14,664,15],[665,2,666,2],[665,3,666,5],[665,6,666,6],[665,7,666,10],[665,11,666,13],[665,14,666,15],[660,2,660,5],[660,6,660,8],[660,9,660,10],[660,11,660,15],[661,2,661,10],[661,11,661,15],[657,3,657,5],[657,7,657,10],[657,11,657,13],[657,14,657,15],[658,2,659,2],[658,3,659,5],[658,6,659,6],[658,7,659,10],[658,11,659,13],[658,14,659,15],[653,2,653,5],[653,6,653,8],[653,9,653,10],[653,11,653,15],[654,2,654,10],[654,11,654,15],[650,3,650,5],[650,7,650,10],[650,11,650,13],[650,14,650,15],[651,2,652,2],[651,3,652,5],[651,6,652,6],[651,7,652,10],[651,11,652,13],[651,14,652,15],[646,2,646,5],[646,6,646,8],[646,9,646,10],[646,11,646,15],[647,2,647,10],[647,11,647,15],[643,3,643,5],[643,7,643,10],[643,11,643,13],[643,14,643,15],[644,2,645,2],[644,3,645,5],[644,6,645,6],[644,7,645,10],[644,11,645,13],[644,14,645,15],[639,2,639,5],[639,6,639,8],[639,9,639,10],[639,11,639,15],[640,2,640,10],[640,11,640,15],[636,3,636,5],[636,7,636,10],[636,11,636,13],[636,14,636,15],[637,2,638,2],[637,3,638,5],[637,6,638,6],[637,7,638,10],[637,11,638,13],[637,14,638,15],[632,2,632,5],[632,6,632,8],[632,9,632,10],[632,11,632,15],[633,2,633,10],[633,11,633,15],[629,3,629,5],[629,7,629,10],[629,11,629,13],[629,14,629,15],[630,2,631,2],[630,3,631,5],[630,6,631,6],[630,7,631,10],[630,11,631,13],[630,14,631,15],[625,2,625,5],[625,6,625,8],[625,9,625,10],[625,11,625,15],[626,2,626,10],[626,11,626,15],[622,3,622,5],[622,7,622,10],[622,11,622,13],[622,14,622,15],[623,2,624,2],[623,3,624,5],[623,6,624,6],[623,7,624,10],[623,11,624,13],[623,14,624,15],[617,2,617,5],[617,6,617,8],[617,9,617,10],[617,11,617,15],[618,2,618,10],[618,11,618,15],[614,3,614,5],[614,7,614,10],[614,11,614,13],[614,14,614,15],[615,2,616,2],[615,3,616,5],[615,6,616,6],[615,7,616,10],[615,11,616,13],[615,14,616,15],[610,2,610,5],[610,6,610,8],[610,9,610,10],[610,11,610,15],[611,2,611,10],[611,11,611,15],[607,3,607,5],[607,7,607,10],[607,11,607,13],[607,14,607,15],[608,2,609,2],[608,3,609,5],[608,6,609,6],[608,7,609,10],[608,11,609,13],[608,14,609,15],[603,2,603,5],[603,6,603,8],[603,9,603,10],[603,11,603,15],[604,2,604,10],[604,11,604,15],[600,3,600,5],[600,7,600,10],[600,11,600,13],[600,14,600,15],[601,2,602,2],[601,3,602,5],[601,6,602,6],[601,7,602,10],[601,11,602,13],[601,14,602,15],[596,2,596,5],[596,6,596,8],[596,9,596,10],[596,11,596,15],[597,2,597,10],[597,11,597,15],[593,3,593,5],[593,7,593,10],[593,11,593,13],[593,14,593,15],[594,2,595,2],[594,3,595,5],[594,6,595,6],[594,7,595,10],[594,11,595,13],[594,14,595,15],[589,2,589,5],[589,6,589,8],[589,9,589,10],[589,11,589,15],[590,2,590,10],[590,11,590,15],[586,3,586,5],[586,7,586,10],[586,11,586,13],[586,14,586,15],[587,2,588,2],[587,3,588,5],[587,6,588,6],[587,7,588,10],[587,11,588,13],[587,14,588,15],[582,2,582,5],[582,6,582,8],[582,9,582,10],[582,11,582,15],[583,2,583,10],[583,11,583,15],[579,3,579,5],[579,7,579,10],[579,11,579,13],[579,14,579,15],[580,2,581,2],[580,3,581,5],[580,6,581,6],[580,7,581,10],[580,11,581,13],[580,14,581,15],[575,2,575,5],[575,6,575,8],[575,9,575,10],[575,11,575,15],[576,2,576,10],[576,11,576,15],[572,3,572,5],[572,7,572,10],[572,11,572,13],[572,14,572,15],[573,2,574,2],[573,3,574,5],[573,6,574,6],[573,7,574,10],[573,11,574,13],[573,14,574,15],[567,2,567,5],[567,6,567,8],[567,9,567,10],[567,11,567,15],[568,2,568,10],[568,11,568,15],[564,3,564,5],[564,7,564,10],[564,11,564,13],[564,14,564,15],[565,2,566,2],[565,3,566,5],[565,6,566,6],[565,7,566,10],[565,11,566,13],[565,14,566,15],[560,2,560,5],[560,6,560,8],[560,9,560,10],[560,11,560,15],[561,2,561,10],[561,11,561,15],[557,3,557,5],[557,7,557,10],[557,11,557,13],[557,14,557,15],[558,2,559,2],[558,3,559,5],[558,6,559,6],[558,7,559,10],[558,11,559,13],[558,14,559,15],[553,2,553,5],[553,6,553,8],[553,9,553,10],[553,11,553,15],[554,2,554,10],[554,11,554,15],[550,3,550,5],[550,7,550,10],[550,11,550,13],[550,14,550,15],[551,2,552,2],[551,3,552,5],[551,6,552,6],[551,7,552,10],[551,11,552,13],[551,14,552,15],[546,2,546,5],[546,6,546,8],[546,9,546,10],[546,11,546,15],[547,2,547,10],[547,11,547,15],[543,3,543,5],[543,7,543,10],[543,11,543,13],[543,14,543,15],[544,2,545,2],[544,3,545,5],[544,6,545,6],[544,7,545,10],[544,11,545,13],[544,14,545,15],[539,2,539,5],[539,6,539,8],[539,9,539,10],[539,11,539,15],[540,2,540,10],[540,11,540,15],[536,3,536,5],[536,7,536,10],[536,11,536,13],[536,14,536,15],[537,2,538,2],[537,3,538,5],[537,6,538,6],[537,7,538,10],[537,11,538,13],[537,14,538,15],[532,2,532,5],[532,6,532,8],[532,9,532,10],[532,11,532,15],[533,2,533,10],[533,11,533,15],[529,3,529,5],[529,7,529,10],[529,11,529,13],[529,14,529,15],[530,2,531,2],[530,3,531,5],[530,6,531,6],[530,7,531,10],[530,11,531,13],[530,14,531,15],[525,2,525,5],[525,6,525,8],[525,9,525,10],[525,11,525,15],[526,2,526,10],[526,11,526,15],[522,3,522,5],[522,7,522,10],[522,11,522,13],[522,14,522,15],[523,2,524,2],[523,3,524,5],[523,6,524,6],[523,7,524,10],[523,11,524,13],[523,14,524,15],[518,2,518,5],[518,6,518,8],[518,9,518,10],[518,11,518,15],[519,2,519,10],[519,11,519,15],[515,3,515,5],[515,7,515,10],[515,11,515,13],[515,14,515,15],[516,2,517,2],[516,3,517,5],[516,6,517,6],[516,7,517,10],[516,11,517,13],[516,14,517,15],[510,2,510,5],[510,6,510,8],[510,9,510,10],[510,11,510,15],[511,2,511,10],[511,11,511,15],[507,3,507,5],[507,7,507,10],[507,11,507,13],[507,14,507,15],[508,2,509,2],[508,3,509,5],[508,6,509,6],[508,7,509,10],[508,11,509,13],[508,14,509,15],[503,2,503,5],[503,6,503,8],[503,9,503,10],[503,11,503,15],[504,2,504,10],[504,11,504,15],[500,3,500,5],[500,7,500,10],[500,11,500,13],[500,14,500,15],[501,2,502,2],[501,3,502,5],[501,6,502,6],[501,7,502,10],[501,11,502,13],[501,14,502,15],[496,2,496,5],[496,6,496,8],[496,9,496,10],[496,11,496,15],[497,2,497,10],[497,11,497,15],[493,3,493,5],[493,7,493,10],[493,11,493,13],[493,14,493,15],[494,2,495,2],[494,3,495,5],[494,6,495,6],[494,7,495,10],[494,11,495,13],[494,14,495,15],[489,2,489,5],[489,6,489,8],[489,9,489,10],[489,11,489,15],[490,2,490,10],[490,11,490,15],[486,3,486,5],[486,7,486,10],[486,11,486,13],[486,14,486,15],[487,2,488,2],[487,3,488,5],[487,6,488,6],[487,7,488,10],[487,11,488,13],[487,14,488,15],[482,2,482,5],[482,6,482,8],[482,9,482,10],[482,11,482,15],[483,2,483,10],[483,11,483,15],[479,3,479,5],[479,7,479,10],[479,11,479,13],[479,14,479,15],[480,2,481,2],[480,3,481,5],[480,6,481,6],[480,7,481,10],[480,11,481,13],[480,14,481,15],[475,2,475,5],[475,6,475,8],[475,9,475,10],[475,11,475,15],[476,2,476,10],[476,11,476,15],[472,3,472,5],[472,7,472,10],[472,11,472,13],[472,14,472,15],[473,2,474,2],[473,3,474,5],[473,6,474,6],[473,7,474,10],[473,11,474,13],[473,14,474,15],[468,2,468,5],[468,6,468,8],[468,9,468,10],[468,11,468,15],[469,2,469,10],[469,11,469,15],[465,3,465,5],[465,7,465,10],[465,11,465,13],[465,14,465,15],[466,2,467,2],[466,3,467,5],[466,6,467,6],[466,7,467,10],[466,11,467,13],[466,14,467,15],[461,2,461,5],[461,6,461,8],[461,9,461,10],[461,11,461,15],[462,2,462,10],[462,11,462,15],[458,3,458,5],[458,7,458,10],[458,11,458,13],[458,14,458,15],[459,2,460,2],[459,3,460,5],[459,6,460,6],[459,7,460,10],[459,11,460,13],[459,14,460,15],[453,2,453,5],[453,6,453,8],[453,9,453,10],[453,11,453,15],[454,2,454,10],[454,11,454,15],[450,3,450,5],[450,7,450,10],[450,11,450,13],[450,14,450,15],[451,2,452,2],[451,3,452,5],[451,6,452,6],[451,7,452,10],[451,11,452,13],[451,14,452,15],[446,2,446,5],[446,6,446,8],[446,9,446,10],[446,11,446,15],[447,2,447,10],[447,11,447,15],[443,3,443,5],[443,7,443,10],[443,11,443,13],[443,14,443,15],[444,2,445,2],[444,3,445,5],[444,6,445,6],[444,7,445,10],[444,11,445,13],[444,14,445,15],[439,2,439,5],[439,6,439,8],[439,9,439,10],[439,11,439,15],[440,2,440,10],[440,11,440,15],[436,3,436,5],[436,7,436,10],[436,11,436,13],[436,14,436,15],[437,2,438,2],[437,3,438,5],[437,6,438,6],[437,7,438,10],[437,11,438,13],[437,14,438,15],[432,2,432,5],[432,6,432,8],[432,9,432,10],[432,11,432,15],[433,2,433,10],[433,11,433,15],[429,3,429,5],[429,7,429,10],[429,11,429,13],[429,14,429,15],[430,2,431,2],[430,3,431,5],[430,6,431,6],[430,7,431,10],[430,11,431,13],[430,14,431,15],[425,2,425,5],[425,6,425,8],[425,9,425,10],[425,11,425,15],[426,2,426,10],[426,11,426,15],[422,3,422,5],[422,7,422,10],[422,11,422,13],[422,14,422,15],[423,2,424,2],[423,3,424,5],[423,6,424,6],[423,7,424,10],[423,11,424,13],[423,14,424,15],[418,2,418,5],[418,6,418,8],[418,9,418,10],[418,11,418,15],[419,2,419,10],[419,11,419,15],[415,3,415,5],[415,7,415,10],[415,11,415,13],[415,14,415,15],[416,2,417,2],[416,3,417,5],[416,6,417,6],[416,7,417,10],[416,11,417,13],[416,14,417,15],[411,2,411,5],[411,6,411,8],[411,9,411,10],[411,11,411,15],[412,2,412,10],[412,11,412,15],[408,3,408,5],[408,7,408,10],[408,11,408,13],[408,14,408,15],[409,2,410,2],[409,3,410,5],[409,6,410,6],[409,7,410,10],[409,11,410,13],[409,14,410,15],[404,2,404,5],[404,6,404,8],[404,9,404,10],[404,11,404,15],[405,2,405,10],[405,11,405,15],[401,3,401,5],[401,7,401,10],[401,11,401,13],[401,14,401,15],[402,2,403,2],[402,3,403,5],[402,6,403,6],[402,7,403,10],[402,11,403,13],[402,14,403,15],[396,2,396,5],[396,6,396,8],[396,9,396,10],[396,11,396,15],[397,2,397,10],[397,11,397,15],[393,3,393,5],[393,7,393,10],[393,11,393,13],[393,14,393,15],[394,2,395,2],[394,3,395,5],[394,6,395,6],[394,7,395,10],[394,11,395,13],[394,14,395,15],[389,2,389,5],[389,6,389,8],[389,9,389,10],[389,11,389,15],[390,2,390,10],[390,11,390,15],[386,3,386,5],[386,7,386,10],[386,11,386,13],[386,14,386,15],[387,2,388,2],[387,3,388,5],[387,6,388,6],[387,7,388,10],[387,11,388,13],[387,14,388,15],[382,2,382,5],[382,6,382,8],[382,9,382,10],[382,11,382,15],[383,2,383,10],[383,11,383,15],[379,3,379,5],[379,7,379,10],[379,11,379,13],[379,14,379,15],[380,2,381,2],[380,3,381,5],[380,6,381,6],[380,7,381,10],[380,11,381,13],[380,14,381,15],[375,2,375,5],[375,6,375,8],[375,9,375,10],[375,11,375,15],[376,2,376,10],[376,11,376,15],[372,3,372,5],[372,7,372,10],[372,11,372,13],[372,14,372,15],[373,2,374,2],[373,3,374,5],[373,6,374,6],[373,7,374,10],[373,11,374,13],[373,14,374,15],[368,2,368,5],[368,6,368,8],[368,9,368,10],[368,11,368,15],[369,2,369,10],[369,11,369,15],[365,3,365,5],[365,7,365,10],[365,11,365,13],[365,14,365,15],[366,2,367,2],[366,3,367,5],[366,6,367,6],[366,7,367,10],[366,11,367,13],[366,14,367,15],[361,2,361,5],[361,6,361,8],[361,9,361,10],[361,11,361,15],[362,2,362,10],[362,11,362,15],[358,3,358,5],[358,7,358,10],[358,11,358,13],[358,14,358,15],[359,2,360,2],[359,3,360,5],[359,6,360,6],[359,7,360,10],[359,11,360,13],[359,14,360,15],[354,2,354,5],[354,6,354,8],[354,9,354,10],[354,11,354,15],[355,2,355,10],[355,11,355,15],[351,3,351,5],[351,7,351,10],[351,11,351,13],[351,14,351,15],[352,2,353,2],[352,3,353,5],[352,6,353,6],[352,7,353,10],[352,11,353,13],[352,14,353,15],[347,2,347,5],[347,6,347,8],[347,9,347,10],[347,11,347,15],[348,2,348,10],[348,11,348,15],[344,3,344,5],[344,7,344,10],[344,11,344,13],[344,14,344,15],[345,2,346,2],[345,3,346,5],[345,6,346,6],[345,7,346,10],[345,11,346,13],[345,14,346,15],[339,2,339,5],[339,6,339,8],[339,9,339,10],[339,11,339,15],[340,2,340,10],[340,11,340,15],[336,3,336,5],[336,7,336,10],[336,11,336,13],[336,14,336,15],[337,2,338,2],[337,3,338,5],[337,6,338,6],[337,7,338,10],[337,11,338,13],[337,14,338,15],[332,2,332,5],[332,6,332,8],[332,9,332,10],[332,11,332,15],[333,2,333,10],[333,11,333,15],[329,3,329,5],[329,7,329,10],[329,11,329,13],[329,14,329,15],[330,2,331,2],[330,3,331,5],[330,6,331,6],[330,7,331,10],[330,11,331,13],[330,14,331,15],[325,2,325,5],[325,6,325,8],[325,9,325,10],[325,11,325,15],[326,2,326,10],[326,11,326,15],[322,3,322,5],[322,7,322,10],[322,11,322,13],[322,14,322,15],[323,2,324,2],[323,3,324,5],[323,6,324,6],[323,7,324,10],[323,11,324,13],[323,14,324,15],[318,2,318,5],[318,6,318,8],[318,9,318,10],[318,11,318,15],[319,2,319,10],[319,11,319,15],[315,3,315,5],[315,7,315,10],[315,11,315,13],[315,14,315,15],[316,2,317,2],[316,3,317,5],[316,6,317,6],[316,7,317,10],[316,11,317,13],[316,14,317,15],[311,2,311,5],[311,6,311,8],[311,9,311,10],[311,11,311,15],[312,2,312,10],[312,11,312,15],[308,3,308,5],[308,7,308,10],[308,11,308,13],[308,14,308,15],[309,2,310,2],[309,3,310,5],[309,6,310,6],[309,7,310,10],[309,11,310,13],[309,14,310,15],[304,2,304,5],[304,6,304,8],[304,9,304,10],[304,11,304,15],[305,2,305,10],[305,11,305,15],[301,3,301,5],[301,7,301,10],[301,11,301,13],[301,14,301,15],[302,2,303,2],[302,3,303,5],[302,6,303,6],[302,7,303,10],[302,11,303,13],[302,14,303,15],[297,2,297,5],[297,6,297,8],[297,9,297,10],[297,11,297,15],[298,2,298,10],[298,11,298,15],[294,3,294,5],[294,7,294,10],[294,11,294,13],[294,14,294,15],[295,2,296,2],[295,3,296,5],[295,6,296,6],[295,7,296,10],[295,11,296,13],[295,14,296,15],[290,2,290,5],[290,6,290,8],[290,9,290,10],[290,11,290,15],[291,2,291,10],[291,11,291,15],[287,3,287,5],[287,7,287,10],[287,11,287,13],[287,14,287,15],[288,2,289,2],[288,3,289,5],[288,6,289,6],[288,7,289,10],[288,11,289,13],[288,14,289,15],[282,2,282,5],[282,6,282,8],[282,9,282,10],[282,11,282,15],[283,2,283,10],[283,11,283,15],[279,3,279,5],[279,7,279,10],[279,11,279,13],[279,14,279,15],[280,2,281,2],[280,3,281,5],[280,6,281,6],[280,7,281,10],[280,11,281,13],[280,14,281,15],[275,2,275,5],[275,6,275,8],[275,9,275,10],[275,11,275,15],[276,2,276,10],[276,11,276,15],[272,3,272,5],[272,7,272,10],[272,11,272,13],[272,14,272,15],[273,2,274,2],[273,3,274,5],[273,6,274,6],[273,7,274,10],[273,11,274,13],[273,14,274,15],[268,2,268,5],[268,6,268,8],[268,9,268,10],[268,11,268,15],[269,2,269,10],[269,11,269,15],[265,3,265,5],[265,7,265,10]],"merged_total":1600,"flags":["merged_cut"]}
[null,null,"※個票は申込書より自動作成されます。"]
[null,1]
[null,"個","性別","種　別",null,null,"種　目","氏　　　　名",null,null,null,"番　号",null,null,"所　　属"]
[null,"人",{"$f":"女子!E11","v":0},{"$f":"女子!F11","v":0},null,null,{"$f":"女子!H11","v":0},{"$f":"女子!D11","v":0},null,null,null,{"$f":"女子!C11","v":0},null,null,{"$f":"女子!G11","v":0}]
[null,"申"]
[null,"込","最  近 の 記 録",null,null,null,null,null,null,"ベスト記録"]
[null,"票","   ※女子は黒字書き、女子は赤字書きとする。　",null,null,null,null,null,null,null,null,"南アルプス市・甲斐市・中央市陸協"]
[]
[null,2]
[null,"個","性別","種　別",null,null,"種　目","氏　　　　名",null,null,null,"番　号",null,null,"所　　属"]
[null,"人",{"$f":"女子!E12","v":0},{"$f":"女子!F12","v":0},null,null,{"$f":"女子!H12","v":0},{"$f":"女子!D12","v":0},null,null,null,{"$f":"女子!C12","v":0},null,null,{"$f":"女子!G12","v":0}]
[null,"申"]
[null,"込","最  近 の 記 録",null,null,null,null,null,null,"ベスト記録"]
[null,"票","   ※女子は黒字書き、女子は赤字書きとする。　",null,null,null,null,null,null,null,null,"南アルプス市・甲斐市・中央市陸協"]
[]
[null,3]
[null,"個","性別","種　別",null,null,"種　目","氏　　　　名",null,null,null,"番　号",null,null,"所　　属"]
[null,"人",{"$f":"女子!E13","v":0},{"$f":"女子!F13","v":0},null,null,{"$f":"女子!H13","v":0},{"$f":"女子!D13","v":0},null,null,null,{"$f":"女子!C13","v":0},null,null,{"$f":"女子!G13","v":0}]
[null,"申"]
[null,"込","最  近 の 記 録",null,null,null,null,null,null,"ベスト記録"]
[null,"票","   ※女子は黒字書き、女子は赤字書きとする。　",null,null,null,null,null,null,null,null,"南アルプス市・甲斐市・中央市陸協"]
[]
[null,4]
[null,"個","性別","種　別",null,null,"種　目","氏　　　　名",null,null,null,"番　号",null,null,"所　　属"]
[null,"人",{"$f":"女子!E14","v":0},{"$f":"女子!F14","v":0},null,null,{"$f":"女子!H14","v":0},{"$f":"女子!D14","v":0},null,null,null,{"$f":"女子!C14","v":0},null,null,{"$f":"女子!G14","v":0}]
[null,"申"]
[null,"込","最  近 の 記 録",null,null,null,null,null,null,"ベスト記録"]
[null,"票","   ※女子は黒字書き、女子は赤字書きとする。　",null,null,null,null,null,null,null,null,"南アルプス市・甲斐市・中央市陸協"]
[null,5]
[]
[null,"個","性別","種　別",null,null,"種　目","氏　　　　名",null,null,null,"番　号",null,null,"所　　属"]
[null,"人",{"$f":"女子!E15","v":0},{"$f":"女子!F15","v":0},null,null,{"$f":"女子!H15","v":0},{"$f":"女子!D15","v":0},null,null,null,{"$f":"女子!C15","v":0},null,null,{"$f":"女子!G15","v":0}]
[null,"申"]
[null,"込","最  近 の 記 録",null,null,null,null,null,null,"ベスト記録"]
[null,"票","   ※女子は黒字書き、女子は赤字書きとする。　",null,null,null,null,null,null,null,null,"南アルプス市・甲斐市・中央市陸協"]
[]
[null,6]
[null,"個","性別","種　別",null,null,"種　目","氏　　　　名",null,null,null,"番　号",null,null,"所　　属"]
[null,"人",{"$f":"女子!E16","v":0},{"$f":"女子!F16","v":0},null,null,{"$f":"女子!H16","v":0},{"$f":"女子!D16","v":0},null,null,null,{"$f":"女子!C16","v":0},null,null,{"$f":"女子!G16","v":0}]
[null,"申"]
[null,"込","最  近 の 記 録",null,null,null,null,null,null,"ベスト記録"]
[null,"票","   ※女子は黒字書き、女子は赤字書きとする。　",null,null,null,null,null,null,null,null,"南アルプス市・甲斐市・中央市陸協"]
[]
[null,7]
[null,"個","性別","種　別",null,null,"種　目","氏　　　　名",null,null,null,"番　号",null,null,"所　　属"]
[null,"人",{"$f":"女子!E17","v":0},{"$f":"女子!F17","v":0},null,null,{"$f":"女子!H17","v":0},{"$f":"女子!D17","v":0},null,null,null,{"$f":"女子!C17","v":0},null,null,{"$f":"女子!G17","v":0}]
[null,"申"]
[null,"込","最  近 の 記 録",null,null,null,null,null,null,"ベスト記録"]
[null,"票","   ※女子は黒字書き、女子は赤字書きとする。　",null,null,null,null,null,null,null,null,"南アルプス市・甲斐市・中央市陸協"]
[]
[null,8]
[null,"個","性別","種　別",null,null,"種　目","氏　　　　名",null,null,null,"番　号",null,null,"所　　属"]
[null,"人",{"$f":"女子!E18","v":0},{"$f":"女子!F18","v":0},null,null,{"$f":"女子!H18","v":0},{"$f":"女子!D18","v":0},null,null,null,{"$f":"女子!C18","v":0},null,null,{"$f":"女子!G18","v":0}]
[null,"申"]
[null,"込","最  近 の 記 録",null,null,null,null,null,null,"ベスト記録"]
[null,"票","   ※女子は黒字書き、女子は赤字書きとする。　",null,null,null,null,null,null,null,null,"南アルプス市・甲斐市・中央市陸協"]
[]
[]
[null,9]
[null,"個","性別","種　別",null,null,"種　目","氏　　　　名",null,null,null,"番　号",null,null,"所　　属"]
[null,"人",{"$f":"女子!E19","v":0},{"$f":"女子!F19","v":0},null,null,{"$f":"女子!H19","v":0},{"$f":"女子!D19","v":0},null,null,null,{"$f":"女子!C19","v":0},null,null,{"$f":"女子!G19","v":0}]
[null,"申"]
[null,"込","最  近 の 記 録",null,null,null,null,null,null,"ベスト記録"]
[null,"票","   ※女子は黒字書き、女子は赤字書きとする。　",null,null,null,null,null,null,null,null,"南アルプス市・甲斐市・中央市陸協"]
[]
[null,10]
[null,"個","性別","種　別",null,null,"種　目","氏　　　　名",null,null,null,"番　号",null,null,"所　　属"]
[null,"人",{"$f":"女子!E20","v":0},{"$f":"女子!F20","v":0},null,null,{"$f":"女子!H20","v":0},{"$f":"女子!D20","v":0},null,null,null,{"$f":"女子!C20","v":0},null,null,{"$f":"女子!G20","v":0}]
[null,"申"]
[null,"込","最  近 の 記 録",null,null,null,null,null,null,"ベスト記録"]
[null,"票","   ※女子は黒字書き、女子は赤字書きとする。　",null,null,null,null,null,null,null,null,"南アルプス市・甲斐市・中央市陸協"]
[]
[null,11]
[null,"個","性別","種　別",null,null,"種　目","氏　　　　名",null,null,null,"番　号",null,null,"所　　属"]
[null,"人",{"$f":"女子!E21","v":0},{"$f":"女子!F21","v":0},null,null,{"$f":"女子!H21","v":0},{"$f":"女子!D21","v":0},null,null,null,{"$f":"女子!C21","v":0},null,null,{"$f":"女子!G21","v":0}]
[null,"申"]
[null,"込","最  近 の 記 録",null,null,null,null,null,null,"ベスト記録"]
[null,"票","   ※女子は黒字書き、女子は赤字書きとする。　",null,null,null,null,null,null,null,null,"南アルプス市・甲斐市・中央市陸協"]
[]
[null,12]
[null,"個","性別","種　別",null,null,"種　目","氏　　　　名",null,null,null,"番　号",null,null,"所　　属"]
[null,"人",{"$f":"女子!E22","v":0},{"$f":"女子!F22","v":0},null,null,{"$f":"女子!H22","v":0},{"$f":"女子!D22","v":0},null,null,null,{"$f":"女子!C22","v":0},null,null,{"$f":"女子!G22","v":0}]
[null,"申"]
[null,"込","最  近 の 記 録",null,null,null,null,null,null,"ベスト記録"]
[null,"票","   ※女子は黒字書き、女子は赤字書きとする。　",null,null,null,null,null,null,null,null,"南アルプス市・甲斐市・中央市陸協"]
[]
[null,13]
[null,"個","性別","種　別",null,null,"種　目","氏　　　　名",null,null,null,"番　号",null,null,"所　　属"]
[null,"人",{"$f":"女子!E23","v":0},{"$f":"女子!F23","v":0},null,null,{"$f":"女子!H23","v":0},{"$f":"女子!D23","v":0},null,null,null,{"$f":"女子!C23","v":0},null,null,{"$f":"女子!G23","v":0}]
[null,"申"]
[null,"込","最  近 の 記 録",null,null,null,null,null,null,"ベスト記録"]
[null,"票","   ※女子は黒字書き、女子は赤字書きとする。　",null,null,null,null,null,null,null,null,"南アルプス市・甲斐市・中央市陸協"]
[]
[null,14]
[null,"個","性別","種　別",null,null,"種　目","氏　　　　名",null,null,null,"番　号",null,null,"所　　属"]
[null,"人",{"$f":"女子!E24","v":0},{"$f":"女子!F24","v":0},null,null,{"$f":"女子!H24","v":0},{"$f":"女子!D24","v":0},null,null,null,{"$f":"女子!C24","v":0},null,null,{"$f":"女子!G24","v":0}]
[null,"申"]
[null,"込","最  近 の 記 録",null,null,null,null,null,null,"ベスト記録"]
[null,"票","   ※女子は黒字書き、女子は赤字書きとする。　",null,null,null,null,null,null,null,null,"南アルプス市・甲斐市・中央市陸協"]
[]
[null,15]
[null,"個","性別","種　別",null,null,"種　目","氏　　　　名",null,null,null,"番　号",null,null,"所　　属"]
[null,"人",{"$f":"女子!E25","v":0},{"$f":"女子!F25","v":0},null,null,{"$f":"女子!H25","v":0},{"$f":"女子!D25","v":0},null,null,null,{"$f":"女子!C25","v":0},null,null,{"$f":"女子!G25","v":0}]
[null,"申"]
[null,"込","最  近 の 記 録",null,null,null,null,null,null,"ベスト記録"]
[null,"票","   ※女子は黒字書き、女子は赤字書きとする。　",null,null,null,null,null,null,null,null,"南アルプス市・甲斐市・中央市陸協"]
[]
[null,16]
[null,"個","性別","種　別",null,null,"種　目","氏　　　　名",null,null,null,"番　号",null,null,"所　　属"]
[null,"人",{"$f":"女子!E26","v":0},{"$f":"女子!F26","v":0},null,null,{"$f":"女子!H26","v":0},{"$f":"女子!D26","v":0},null,null,null,{"$f":"女子!C26","v":0},null,null,{"$f":"女子!G26","v":0}]
[null,"申"]
[null,"込","最  近 の 記 録",null,null,null,null,null,null,"ベスト記録"]
[null,"票","   ※女子は黒字書き、女子は赤字書きとする。　",null,null,null,null,null,null,null,null,"南アルプス市・甲斐市・中央市陸協"]
[]
[]
[null,17]
[null,"個","性別","種　別",null,null,"種　目","氏　　　　名",null,null,null,"番　号",null,null,"所　　属"]
[null,"人",{"$f":"女子!E27","v":0},{"$f":"女子!F27","v":0},null,null,{"$f":"女子!H27","v":0},{"$f":"女子!D27","v":0},null,null,null,{"$f":"女子!C27","v":0},null,null,{"$f":"女子!G27","v":0}]
[null,"申"]
[null,"込","最  近 の 記 録",null,null,null,null,null,null,"ベスト記録"]
[null,"票","   ※女子は黒字書き、女子は赤字書きとする。　",null,null,null,null,null,null,null,null,"南アルプス市・甲斐市・中央市陸協"]
[]
[null,18]
[null,"個","性別","種　別",null,null,"種　目","氏　　　　名",null,null,null,"番　号",null,null,"所　　属"]
[null,"人",{"$f":"女子!E28","v":0},{"$f":"女子!F28","v":0},null,null,{"$f":"女子!H28","v":0},{"$f":"女子!D28","v":0},null,null,null,{"$f":"女子!C28","v":0},null,null,{"$f":"女子!G28","v":0}]
[null,"申"]
[null,"込","最  近 の 記 録",null,null,null,null,null,null,"ベスト記録"]
[null,"票","   ※女子は黒字書き、女子は赤字書きとする。　",null,null,null,null,null,null,null,null,"南アルプス市・甲斐市・中央市陸協"]
[]
[null,19]
[null,"個","性別","種　別",null,null,"種　目","氏　　　　名",null,null,null,"番　号",null,null,"所　　属"]
[null,"人",{"$f":"女子!E29","v":0},{"$f":"女子!F29","v":0},null,null,{"$f":"女子!H29","v":0},{"$f":"女子!D29","v":0},null,null,null,{"$f":"女子!C29","v":0},null,null,{"$f":"女子!G29","v":0}]
[null,"申"]
[null,"込","最  近 の 記 録",null,null,null,null,null,null,"ベスト記録"]
[null,"票","   ※女子は黒字書き、女子は赤字書きとする。　",null,null,null,null,null,null,null,null,"南アルプス市・甲斐市・中央市陸協"]
[]
[]
[null,20,"性別","種　別",null,null,"種　目","氏　　　　名",null,null,null,"番　号",null,null,"所　　属"]
[null,"人",{"$f":"女子!E30","v":0},{"$f":"女子!F30","v":0},null,null,{"$f":"女子!H30","v":0},{"$f":"女子!D30","v":0},null,null,null,{"$f":"女子!C30","v":0},null,null,{"$f":"女子!G30","v":0}]
[null,"申"]
[null,"込","最  近 の 記 録",null,null,null,null,null,null,"ベスト記録"]
[null,"票","   ※女子は黒字書き、女子は赤字書きとする。　",null,null,null,null,null,null,null,null,"南アルプス市・甲斐市・中央市陸協"]
[]
[null,21]
[null,"個","性別","種　別",null,null,"種　目","氏　　　　名",null,null,null,"番　号",null,null,"所　　属"]
[null,"人",{"$f":"女子!E31","v":0},{"$f":"女子!F31","v":0},null,null,{"$f":"女子!H31","v":0},{"$f":"女子!D31","v":0},null,null,null,{"$f":"女子!C31","v":0},null,null,{"$f":"女子!G31","v":0}]
[null,"申"]
[null,"込","最  近 の 記 録",null,null,null,null,null,null,"ベスト記録"]
[null,"票","   ※女子は黒字書き、女子は赤字書きとする。　",null,null,null,null,null,null,null,null,"南アルプス市・甲斐市・中央市陸協"]
[]
[null,22]
[null,"個","性別","種　別",null,null,"種　目","氏　　　　名",null,null,null,"番　号",null,null,"所　　属"]
[null,"人",{"$f":"女子!E32","v":0},{"$f":"女子!F32","v":0},null,null,{"$f":"女子!H32","v":0},{"$f":"女子!D32","v":0},null,null,null,{"$f":"女子!C32","v":0},null,null,{"$f":"女子!G32","v":0}]
[null,"申"]
[null,"込","最  近 の 記 録",null,null,null,null,null,null,"ベスト記録"]
[null,"票","   ※女子は黒字書き、女子は赤字書きとする。　",null,null,null,null,null,null,null,null,"南アルプス市・甲斐市・中央市陸協"]
[]
[null,23]
[null,"個","性別","種　別",null,null,"種　目","氏　　　　名",null,null,null,"番　号",null,null,"所　　属"]
[null,"人",{"$f":"女子!E33","v":0},{"$f":"女子!F33","v":0},null,null,{"$f":"女子!H33","v":0},{"$f":"女子!D33","v":0},null,null,null,{"$f":"女子!C33","v":0},null,null,{"$f":"女子!G33","v":0}]
[null,"申"]
[null,"込","最  近 の 記 録",null,null,null,null,null,null,"ベスト記録"]
[null,"票","   ※女子は黒字書き、女子は赤字書きとする。　",null,null,null,null,null,null,null,null,"南アルプス市・甲斐市・中央市陸協"]
[]
[null,24]
[null,"個","性別","種　別",null,null,"種　目","氏　　　　名",null,null,null,"番　号",null,null,"所　　属"]
[null,"人",{"$f":"女子!E34","v":0},{"$f":"女子!F34","v":0},null,null,{"$f":"女子!H34","v":0},{"$f":"女子!D34","v":0},null,null,null,{"$f":"女子!C34","v":0},null,null,{"$f":"女子!G34","v":0}]
[null,"申"]
[null,"込","最  近 の 記 録",null,null,null,null,null,null,"ベスト記録"]
[null,"票","   ※女子は黒字書き、女子は赤字書きとする。　",null,null,null,null,null,null,null,null,"南アルプス市・甲斐市・中央市陸協"]
[]
[]
[null,25]
[null,"個","性別","種　別",null,null,"種　目","氏　　　　名",null,null,null,"番　号",null,null,"所　　属"]
[null,"人",{"$f":"女子!E35","v":0},{"$f":"女子!F35","v":0},null,null,{"$f":"女子!H35","v":0},{"$f":"女子!D35","v":0},null,null,null,{"$f":"女子!C35","v":0},null,null,{"$f":"女子!G35","v":0}]
[null,"申"]
[null,"込","最  近 の 記 録",null,null,null,null,null,null,"ベスト記録"]
[null,"票","   ※女子は黒字書き、女子は赤字書きとする。　",null,null,null,null,null,null,null,null,"南アルプス市・甲斐市・中央市陸協"]
[]
[null,26]
[null,"個","性別","種　別",null,null,"種　目","氏　　　　名",null,null,null,"番　号",null,null,"所　　属"]
[null,"人",{"$f":"女子!E36","v":0},{"$f":"女子!F36","v":0},null,null,{"$f":"女子!H36","v":0},{"$f":"女子!D36","v":0},null,null,null,{"$f":"女子!C36","v":0},null,null,{"$f":"女子!G36","v":0}]
[null,"申"]
[null,"込","最  近 の 記 録",null,null,null,null,null,null,"ベスト記録"]
[null,"票","   ※女子は黒字書き、女子は赤字書きとする。　",null,null,null,null,null,null,null,null,"南アルプス市・甲斐市・中央市陸協"]
[]
[null,27]
[null,"個","性別","種　別",null,null,"種　目","氏　　　　名",null,null,null,"番　号",null,null,"所　　属"]
[null,"人",{"$f":"女子!E37","v":0},{"$f":"女子!F37","v":0},null,null,{"$f":"女子!H37","v":0},{"$f":"女子!D37","v":0},null,null,null,{"$f":"女子!C37","v":0},null,null,{"$f":"女子!G37","v":0}]
[null,"申"]
[null,"込","最  近 の 記 録",null,null,null,null,null,null,"ベスト記録"]
[null,"票","   ※女子は黒字書き、女子は赤字書きとする。　",null,null,null,null,null,null,null,null,"南アルプス市・甲斐市・中央市陸協"]
[]
[null,28]
[null,"個","性別","種　別",null,null,"種　目","氏　　　　名",null,null,null,"番　号",null,null,"所　　属"]
[null,"人",{"$f":"女子!E38","v":0},{"$f":"女子!F38","v":0},null,null,{"$f":"女子!H38","v":0},{"$f":"女子!D38","v":0},null,null,null,{"$f":"女子!C38","v":0},null,null,{"$f":"女子!G38","v":0}]
[null,"申"]
[null,"込","最  近 の 記 録",null,null,null,null,null,null,"ベスト記録"]
[null,"票","   ※女子は黒字書き、女子は赤字書きとする。　",null,null,null,null,null,null,null,null,"南アルプス市・甲斐市・中央市陸協"]
[]
[null,29]
[null,"個","性別","種　別",null,null,"種　目","氏　　　　名",null,null,null,"番　号",null,null,"所　　属"]
[null,"人",{"$f":"女子!E39","v":0},{"$f":"女子!F39","v":0},null,null,{"$f":"女子!H39","v":0},{"$f":"女子!D39","v":0},null,null,null,{"$f":"女子!C39","v":0},null,null,{"$f":"女子!G39","v":0}]
[null,"申"]
[null,"込","最  近 の 記 録",null,null,null,null,null,null,"ベスト記録"]
[null,"票","   ※女子は黒字書き、女子は赤字書きとする。　",null,null,null,null,null,null,null,null,"南アルプス市・甲斐市・中央市陸協"]
[]
[null,30]
[null,"個","性別","種　別",null,null,"種　目","氏　　　　名",null,null,null,"番　号",null,null,"所　　属"]
[null,"人",{"$f":"女子!E40","v":0},{"$f":"女子!F40","v":0},null,null,{"$f":"女子!H40","v":0},{"$f":"女子!D40","v":0},null,null,null,{"$f":"女子!C40","v":0},null,null,{"$f":"女子!G40","v":0}]
[null,"申"]
[null,"込","最  近 の 記 録",null,null,null,null,null,null,"ベスト記録"]
[null,"票","   ※女子は黒字書き、女子は赤字書きとする。　",null,null,null,null,null,null,null,null,"南アルプス市・甲斐市・中央市陸協"]
[]
[null,31]
[null,"個","性別","種　別",null,null,"種　目","氏　　　　名",null,null,null,"番　号",null,null,"所　　属"]
[null,"人",{"$f":"女子!E41","v":0},{"$f":"女子!F41","v":0},null,null,{"$f":"女子!H41","v":0},{"$f":"女子!D41","v":0},null,null,null,{"$f":"女子!C41","v":0},null,null,{"$f":"女子!G41","v":0}]
[null,"申"]
[null,"込","最  近 の 記 録",null,null,null,null,null,null,"ベスト記録"]
[null,"票","   ※女子は黒字書き、女子は赤字書きとする。　",null,null,null,null,null,null,null,null,"南アルプス市・甲斐市・中央市陸協"]
[]
[null,32]
[null,"個","性別","種　別",null,null,"種　目","氏　　　　名",null,null,null,"番　号",null,null,"所　　属"]
[null,"人",{"$f":"女子!E42","v":0},{"$f":"女子!F42","v":0},null,null,{"$f":"女子!H42","v":0},{"$f":"女子!D42","v":0},null,null,null,{"$f":"女子!C42","v":0},null,null,{"$f":"女子!G42","v":0}]
[null,"申"]
[null,"込","最  近 の 記 録",null,null,null,null,null,null,"ベスト記録"]
[null,"票","   ※女子は黒字書き、女子は赤字書きとする。　",null,null,null,null,null,null,null,null,"南アルプス市・甲斐市・中央市陸協"]
[]
[]
[null,33]
[null,"個","性別","種　別",null,null,"種　目","氏　　　　名",null,null,null,"番　号",null,null,"所　　属"]
[null,"人",{"$f":"女子!E43","v":0},{"$f":"女子!F43","v":0},null,null,{"$f":"女子!H43","v":0},{"$f":"女子!D43","v":0},null,null,null,{"$f":"女子!C43","v":0},null,null,{"$f":"女子!G43","v":0}]
[null,"申"]
[null,"込","最  近 の 記 録",null,null,null,null,null,null,"ベスト記録"]
[null,"票","   ※女子は黒字書き、女子は赤字書きとする。　",null,null,null,null,null,null,null,null,"南アルプス市・甲斐市・中央市陸協"]
[]
[null,34]
[null,"個","性別","種　別",null,null,"種　目","氏　　　　名",null,null,null,"番　号",null,null,"所　　属"]
[null,"人",{"$f":"女子!E44","v":0},{"$f":"女子!F44","v":0},null,null,{"$f":"女子!H44","v":0},{"$f":"女子!D44","v":0},null,null,null,{"$f":"女子!C44","v":0},null,null,{"$f":"女子!G44","v":0}]
[null,"申"]
[null,"込","最  近 の 記 録",null,null,null,null,null,null,"ベスト記録"]
[null,"票","   ※女子は黒字書き、女子は赤字書きとする。　",null,null,null,null,null,null,null,null,"南アルプス市・甲斐市・中央市陸協"]
[]
[null,35]
[null,"個","性別","種　別",null,null,"種　目","氏　　　　名",null,null,null,"番　号",null,null,"所　　属"]
[null,"人",{"$f":"女子!E45","v":0},{"$f":"女子!F45","v":0},null,null,{"$f":"女子!H45","v":0},{"$f":"女子!D45","v":0},null,null,null,{"$f":"女子!C45","v":0},null,null,{"$f":"女子!G45","v":0}]
[null,"申"]
[null,"込","最  近 の 記 録",null,null,null,null,null,null,"ベスト記録"]
[null,"票","   ※女子は黒字書き、女子は赤字書きとする。　",null,null,null,null,null,null,null,null,"南アルプス市・甲斐市・中央市陸協"]
[]
[null,36]
[null,"個","性別","種　別",null,null,"種　目","氏　　　　名",null,null,null,"番　号",null,null,"所　　属"]
[null,"人",{"$f":"女子!E46","v":0},{"$f":"女子!F46","v":0},null,null,{"$f":"女子!H46","v":0},{"$f":"女子!D46","v":0},null,null,null,{"$f":"女子!C46","v":0},null,null,{"$f":"女子!G46","v":0}]
[null,"申"]
[null,"込","最  近 の 記 録",null,null,null,null,null,null,"ベスト記録"]
[null,"票","   ※女子は黒字書き、女子は赤字書きとする。　",null,null,null,null,null,null,null,null,"南アルプス市・甲斐市・中央市陸協"]
[]
[null,37]
[null,"個","性別","種　別",null,null,"種　目","氏　　　　名",null,null,null,"番　号",null,null,"所　　属"]
[null,"人",{"$f":"女子!E47","v":0},{"$f":"女子!F47","v":0},null,null,{"$f":"女子!H47","v":0},{"$f":"女子!D47","v":0},null,null,null,{"$f":"女子!C47","v":0},null,null,{"$f":"女子!G47","v":0}]
[null,"申"]
[null,"込","最  近 の 記 録",null,null,null,null,null,null,"ベスト記録"]
[null,"票","   ※女子は黒字書き、女子は赤字書きとする。　",null,null,null,null,null,null,null,null,"南アルプス市・甲斐市・中央市陸協"]
[]
[null,38]
[null,"個","性別","種　別",null,null,"種　目","氏　　　　名",null,null,null,"番　号",null,null,"所　　属"]
[null,"人",{"$f":"女子!E48","v":0},{"$f":"女子!F48","v":0},null,null,{"$f":"女子!H48","v":0},{"$f":"女子!D48","v":0},null,null,null,{"$f":"女子!C48","v":0},null,null,{"$f":"女子!G48","v":0}]
[null,"申"]
[null,"込","最  近 の 記 録",null,null,null,null,null,null,"ベスト記録"]
[null,"票","   ※女子は黒字書き、女子は赤字書きとする。　",null,null,null,null,null,null,null,null,"南アルプス市・甲斐市・中央市陸協"]
[]
[null,39]
[null,"個","性別","種　別",null,null,"種　目","氏　　　　名",null,null,null,"番　号",null,null,"所　　属"]
[null,"人",{"$f":"女子!E49","v":0},{"$f":"女子!F49","v":0},null,null,{"$f":"女子!H49","v":0},{"$f":"女子!D49","v":0},null,null,null,{"$f":"女子!C49","v":0},null,null,{"$f":"女子!G49","v":0}]
[null,"申"]
[null,"込","最  近 の 記 録",null,null,null,null,null,null,"ベスト記録"]
[null,"票","   ※女子は黒字書き、女子は赤字書きとする。　",null,null,null,null,null,null,null,null,"南アルプス市・甲斐市・中央市陸協"]
[]
[null,40]
[null,"個","性別","種　別",null,null,"種　目","氏　　　　名",null,null,null,"番　号",null,null,"所　　属"]
[null,"人",{"$f":"女子!E50","v":0},{"$f":"女子!F50","v":0},null,null,{"$f":"女子!H50","v":0},{"$f":"女子!D50","v":0},null,null,null,{"$f":"女子!C50","v":0},null,null,{"$f":"女子!G50","v":0}]
[null,"申"]
[null,"込","最  近 の 記 録",null,null,null,null,null,null,"ベスト記録"]
[null,"票","   ※女子は黒字書き、女子は赤字書きとする。　",null,null,null,null,null,null,null,null,"南アルプス市・甲斐市・中央市陸協"]
[]
[]
[null,41]
[null,"個","性別","種　別",null,null,"種　目","氏　　　　名",null,null,null,"番　号",null,null,"所　　属"]
[null,"人",{"$f":"女子!E51","v":0},{"$f":"女子!F51","v":0},null,null,{"$f":"女子!H51","v":0},{"$f":"女子!D51","v":0},null,null,null,{"$f":"女子!C51","v":0},null,null,{"$f":"女子!G51","v":0}]
[null,"申"]
[null,"込","最  近 の 記 録",null,null,null,null,null,null,"ベスト記録"]
[null,"票","   ※女子は黒字書き、女子は赤字書きとする。　",null,null,null,null,null,null,null,null,"南アルプス市・甲斐市・中央市陸協"]
[]
[null,42]
[null,"個","性別","種　別",null,null,"種　目","氏　　　　名",null,null,null,"番　号",null,null,"所　　属"]
[null,"人",{"$f":"女子!E52","v":0},{"$f":"女子!F52","v":0},null,null,{"$f":"女子!H52","v":0},{"$f":"女子!D52","v":0},null,null,null,{"$f":"女子!C52","v":0},null,null,{"$f":"女子!G52","v":0}]
[null,"申"]
[null,"込","最  近 の 記 録",null,null,null,null,null,null,"ベスト記録"]
[null,"票","   ※女子は黒字書き、女子は赤字書きとする。　",null,null,null,null,null,null,null,null,"南アルプス市・甲斐市・中央市陸協"]
[]
[null,43]
[null,"個","性別","種　別",null,null,"種　目","氏　　　　名",null,null,null,"番　号",null,null,"所　　属"]
[null,"人",{"$f":"女子!E53","v":0},{"$f":"女子!F53","v":0},null,null,{"$f":"女子!H53","v":0},{"$f":"女子!D53","v":0},null,null,null,{"$f":"女子!C53","v":0},null,null,{"$f":"女子!G53","v":0}]
[null,"申"]
[null,"込","最  近 の 記 録",null,null,null,null,null,null,"ベスト記録"]
[null,"票","   ※女子は黒字書き、女子は赤字書きとする。　",null,null,null,null,null,null,null,null,"南アルプス市・甲斐市・中央市陸協"]
[]
[null,44]
[null,"個","性別","種　別",null,null,"種　目","氏　　　　名",null,null,null,"番　号",null,null,"所　　属"]
[null,"人",{"$f":"女子!E54","v":0},{"$f":"女子!F54","v":0},null,null,{"$f":"女子!H54","v":0},{"$f":"女子!D54","v":0},null,null,null,{"$f":"女子!C54","v":0},null,null,{"$f":"女子!G54","v":0}]
[null,"申"]
[null,"込","最  近 の 記 録",null,null,null,null,null,null,"ベスト記録"]
[null,"票","   ※女子は黒字書き、女子は赤字書きとする。　",null,null,null,null,null,null,null,null,"南アルプス市・甲斐市・中央市陸協"]
[]
[null,45]
[null,"個","性別","種　別",null,null,"種　目","氏　　　　名",null,null,null,"番　号",null,null,"所　　属"]
[null,"人",{"$f":"女子!E55","v":0},{"$f":"女子!F55","v":0},null,null,{"$f":"女子!H55","v":0},{"$f":"女子!D55","v":0},null,null,null,{"$f":"女子!C55","v":0},null,null,{"$f":"女子!G55","v":0}]
[null,"申"]
[null,"込","最  近 の 記 録",null,null,null,null,null,null,"ベスト記録"]
[null,"票","   ※女子は黒字書き、女子は赤字書きとする。　",null,null,null,null,null,null,null,null,"南アルプス市・甲斐市・中央市陸協"]
[]
[null,46]
[null,"個","性別","種　別",null,null,"種　目","氏　　　　名",null,null,null,"番　号",null,null,"所　　属"]
[null,"人",{"$f":"女子!E56","v":0},{"$f":"女子!F56","v":0},null,null,{"$f":"女子!H56","v":0},{"$f":"女子!D56","v":0},null,null,null,{"$f":"女子!C56","v":0},null,null,{"$f":"女子!G56","v":0}]
[null,"申"]
[null,"込","最  近 の 記 録",null,null,null,null,null,null,"ベスト記録"]
[null,"票","   ※女子は黒字書き、女子は赤字書きとする。　",null,null,null,null,null,null,null,null,"南アルプス市・甲斐市・中央市陸協"]
[]
[null,47]
[null,"個","性別","種　別",null,null,"種　目","氏　　　　名",null,null,null,"番　号",null,null,"所　　属"]
[null,"人",{"$f":"女子!E57","v":0},{"$f":"女子!F57","v":0},null,null,{"$f":"女子!H57","v":0},{"$f":"女子!D57","v":0},null,null,null,{"$f":"女子!C57","v":0},null,null,{"$f":"女子!G57","v":0}]
[null,"申"]
[null,"込","最  近 の 記 録",null,null,null,null,null,null,"ベスト記録"]
[null,"票","   ※女子は黒字書き、女子は赤字書きとする。　",null,null,null,null,null,null,null,null,"南アルプス市・甲斐市・中央市陸協"]
[]
[null,48]
[null,"個","性別","種　別",null,null,"種　目","氏　　　　名",null,null,null,"番　号",null,null,"所　　属"]
[null,"人",{"$f":"女子!E58","v":0},{"$f":"女子!F58","v":0},null,null,{"$f":"女子!H58","v":0},{"$f":"女子!D58","v":0},null,null,null,{"$f":"女子!C58","v":0},null,null,{"$f":"女子!G58","v":0}]
[null,"申"]
[null,"込","最  近 の 記 録",null,null,null,null,null,null,"ベスト記録"]
[null,"票","   ※女子は黒字書き、女子は赤字書きとする。　",null,null,null,null,null,null,null,null,"南アルプス市・甲斐市・中央市陸協"]
[]
[]
[null,49]
[null,"個","性別","種　別",null,null,"種　目","氏　　　　名",null,null,null,"番　号",null,null,"所　　属"]
[null,"人",{"$f":"女子!E59","v":0},{"$f":"女子!F59","v":0},null,null,{"$f":"女子!H59","v":0},{"$f":"女子!D59","v":0},null,null,null,{"$f":"女子!C59","v":0},null,null,{"$f":"女子!G59","v":0}]
[null,"申"]
[null,"込","最  近 の 記 録",null,null,null,null,null,null,"ベスト記録"]
[null,"票","   ※女子は黒字書き、女子は赤字書きとする。　",null,null,null,null,null,null,null,null,"南アルプス市・甲斐市・中央市陸協"]
[]
[null,50]
[null,"個","性別","種　別",null,null,"種　目","氏　　　　名",null,null,null,"番　号",null,null,"所　　属"]
[null,"人",{"$f":"女子!E60","v":0},{"$f":"女子!F60","v":0},null,null,{"$f":"女子!H60","v":0},{"$f":"女子!D60","v":0},null,null,null,{"$f":"女子!C60","v":0},null,null,{"$f":"女子!G60","v":0}]
[null,"申"]
[null,"込","最  近 の 記 録",null,null,null,null,null,null,"ベスト記録"]
[null,"票","   ※女子は黒字書き、女子は赤字書きとする。　",null,null,null,null,null,null,null,null,"南アルプス市・甲斐市・中央市陸協"]
[]
[null,51]
[null,"個","性別","種　別",null,null,"種　目","氏　　　　名",null,null,null,"番　号",null,null,"所　　属"]
[null,"人",{"$f":"女子!E61","v":0},{"$f":"女子!F61","v":0},null,null,{"$f":"女子!H61","v":0},{"$f":"女子!D61","v":0},null,null,null,{"$f":"女子!C61","v":0},null,null,{"$f":"女子!G61","v":0}]
[null,"申"]
[null,"込","最  近 の 記 録",null,null,null,null,null,null,"ベスト記録"]
[null,"票","   ※女子は黒字書き、女子は赤字書きとする。　",null,null,null,null,null,null,null,null,"南アルプス市・甲斐市・中央市陸協"]
[]
[null,52]
[null,"個","性別","種　別",null,null,"種　目","氏　　　　名",null,null,null,"番　号",null,null,"所　　属"]
[null,"人",{"$f":"女子!E62","v":0},{"$f":"女子!F62","v":0},null,null,{"$f":"女子!H62","v":0},{"$f":"女子!D62","v":0},null,null,null,{"$f":"女子!C62","v":0},null,null,{"$f":"女子!G62","v":0}]
[null,"申"]
[null,"込","最  近 の 記 録",null,null,null,null,null,null,"ベスト記録"]
[null,"票","   ※女子は黒字書き、女子は赤字書きとする。　",null,null,null,null,null,null,null,null,"南アルプス市・甲斐市・中央市陸協"]
[]
[null,53]
[null,"個","性別","種　別",null,null,"種　目","氏　　　　名",null,null,null,"番　号",null,null,"所　　属"]
[null,"人",{"$f":"女子!E63","v":0},{"$f":"女子!F63","v":0},null,null,{"$f":"女子!H63","v":0},{"$f":"女子!D63","v":0},null,null,null,{"$f":"女子!C63","v":0},null,null,{"$f":"女子!G63","v":0}]
[null,"申"]
[null,"込","最  近 の 記 録",null,null,null,null,null,null,"ベスト記録"]
[null,"票","   ※女子は黒字書き、女子は赤字書きとする。　",null,null,null,null,null,null,null,null,"南アルプス市・甲斐市・中央市陸協"]
[]
[null,54]
[null,"個","性別","種　別",null,null,"種　目","氏　　　　名",null,null,null,"番　号",null,null,"所　　属"]
[null,"人",{"$f":"女子!E64","v":0},{"$f":"女子!F64","v":0},null,null,{"$f":"女子!H64","v":0},{"$f":"女子!D64","v":0},null,null,null,{"$f":"女子!C64","v":0},null,null,{"$f":"女子!G64","v":0}]
[null,"申"]
[null,"込","最  近 の 記 録",null,null,null,null,null,null,"ベスト記録"]
[null,"票","   ※女子は黒字書き、女子は赤字書きとする。　",null,null,null,null,null,null,null,null,"南アルプス市・甲斐市・中央市陸協"]
[]
[null,55]
[null,"個","性別","種　別",null,null,"種　目","氏　　　　名",null,null,null,"番　号",null,null,"所　　属"]
[null,"人",{"$f":"女子!E65","v":0},{"$f":"女子!F65","v":0},null,null,{"$f":"女子!H65","v":0},{"$f":"女子!D65","v":0},null,null,null,{"$f":"女子!C65","v":0},null,null,{"$f":"女子!G65","v":0}]
[null,"申"]
[null,"込","最  近 の 記 録",null,null,null,null,null,null,"ベスト記録"]
[null,"票","   ※女子は黒字書き、女子は赤字書きとする。　",null,null,null,null,null,null,null,null,"南アルプス市・甲斐市・中央市陸協"]
[]
[null,56]
[null,"個","性別","種　別",null,null,"種　目","氏　　　　名",null,null,null,"番　号",null,null,"所　　属"]
[null,"人",{"$f":"女子!E66","v":0},{"$f":"女子!F66","v":0},null,null,{"$f":"女子!H66","v":0},{"$f":"女子!D66","v":0},null,null,null,{"$f":"女子!C66","v":0},null,null,{"$f":"女子!G66","v":0}]
[null,"申"]
[null,"込","最  近 の 記 録",null,null,null,null,null,null,"ベスト記録"]
[null,"票","   ※女子は黒字書き、女子は赤字書きとする。　",null,null,null,null,null,null,null,null,"南アルプス市・甲斐市・中央市陸協"]
[]
[]
[null,57]
[null,"個","性別","種　別",null,null,"種　目","氏　　　　名",null,null,null,"番　号",null,null,"所　　属"]
[null,"人",{"$f":"女子!E67","v":0},{"$f":"女子!F67","v":0},null,null,{"$f":"女子!H67","v":0},{"$f":"女子!D67","v":0},null,null,null,{"$f":"女子!C67","v":0},null,null,{"$f":"女子!G67","v":0}]
[null,"申"]
[null,"込","最  近 の 記 録",null,null,null,null,null,null,"ベスト記録"]
[null,"票","   ※女子は黒字書き、女子は赤字書きとする。　",null,null,null,null,null,null,null,null,"南アルプス市・甲斐市・中央市陸協"]
[]
[null,58]
[null,"個","性別","種　別",null,null,"種　目","氏　　　　名",null,null,null,"番　号",null,null,"所　　属"]
[null,"人",{"$f":"女子!E68","v":0},{"$f":"女子!F68","v":0},null,null,{"$f":"女子!H68","v":0},{"$f":"女子!D68","v":0},null,null,null,{"$f":"女子!C68","v":0},null,null,{"$f":"女子!G68","v":0}]
[null,"申"]
[null,"込","最  近 の 記 録",null,null,null,null,null,null,"ベスト記録"]
[null,"票","   ※女子は黒字書き、女子は赤字書きとする。　",null,null,null,null,null,null,null,null,"南アルプス市・甲斐市・中央市陸協"]
[]
[null,59]
[null,"個","性別","種　別",null,null,"種　目","氏　　　　名",null,null,null,"番　号",null,null,"所　　属"]
[null,"人",{"$f":"女子!E69","v":0},{"$f":"女子!F69","v":0},null,null,{"$f":"女子!H69","v":0},{"$f":"女子!D69","v":0},null,null,null,{"$f":"女子!C69","v":0},null,null,{"$f":"女子!G69","v":0}]
[null,"申"]
[null,"込","最  近 の 記 録",null,null,null,null,null,null,"ベスト記録"]
[null,"票","   ※女子は黒字書き、女子は赤字書きとする。　",null,null,null,null,null,null,null,null,"南アルプス市・甲斐市・中央市陸協"]
[]
[null,60]
[null,"個","性別","種　別",null,null,"種　目","氏　　　　名",null,null,null,"番　号",null,null,"所　　属"]
[null,"人",{"$f":"女子!E70","v":0},{"$f":"女子!F70","v":0},null,null,{"$f":"女子!H70","v":0},{"$f":"女子!D70","v":0},null,null,null,{"$f":"女子!C70","v":0},null,null,{"$f":"女子!G70","v":0}]
[null,"申"]
[null,"込","最  近 の 記 録",null,null,null,null,null,null,"ベスト記録"]
[null,"票","   ※女子は黒字書き、女子は赤字書きとする。　",null,null,null,null,null,null,null,null,"南アルプス市・甲斐市・中央市陸協"]
[]
[null,61]
[null,"個","性別","種　別",null,null,"種　目","氏　　　　名",null,null,null,"番　号",null,null,"所　　属"]
[null,"人",{"$f":"女子!E71","v":0},{"$f":"女子!F71","v":0},null,null,{"$f":"女子!H71","v":0},{"$f":"女子!D71","v":0},null,null,null,{"$f":"女子!C71","v":0},null,null,{"$f":"女子!G71","v":0}]
[null,"申"]
[null,"込","最  近 の 記 録",null,null,null,null,null,null,"ベスト記録"]
[null,"票","   ※女子は黒字書き、女子は赤字書きとする。　",null,null,null,null,null,null,null,null,"南アルプス市・甲斐市・中央市陸協"]
[]
[null,62]
[null,"個","性別","種　別",null,null,"種　目","氏　　　　名",null,null,null,"番　号",null,null,"所　　属"]
[null,"人",{"$f":"女子!E72","v":0},{"$f":"女子!F72","v":0},null,null,{"$f":"女子!H72","v":0},{"$f":"女子!D72","v":0},null,null,null,{"$f":"女子!C72","v":0},null,null,{"$f":"女子!G72","v":0}]
[null,"申"]
[null,"込","最  近 の 記 録",null,null,null,null,null,null,"ベスト記録"]
[null,"票","   ※女子は黒字書き、女子は赤字書きとする。　",null,null,null,null,null,null,null,null,"南アルプス市・甲斐市・中央市陸協"]
[]
[null,63]
[null,"個","性別","種　別",null,null,"種　目","氏　　　　名",null,null,null,"番　号",null,null,"所　　属"]
[null,"人",{"$f":"女子!E73","v":0},{"$f":"女子!F73","v":0},null,null,{"$f":"女子!H73","v":0},{"$f":"女子!D73","v":0},null,null,null,{"$f":"女子!C73","v":0},null,null,{"$f":"女子!G73","v":0}]
[null,"申"]
[null,"込","最  近 の 記 録",null,null,null,null,null,null,"ベスト記録"]
[null,"票","   ※女子は黒字書き、女子は赤字書きとする。　",null,null,null,null,null,null,null,null,"南アルプス市・甲斐市・中央市陸協"]
[]
[null,64]
[null,"個","性別","種　別",null,null,"種　目","氏　　　　名",null,null,null,"番　号",null,null,"所　　属"]
[null,"人",{"$f":"女子!E74","v":0},{"$f":"女子!F74","v":0},null,null,{"$f":"女子!H74","v":0},{"$f":"女子!D74","v":0},null,null,null,{"$f":"女子!C74","v":0},null,null,{"$f":"女子!G74","v":0}]
[null,"申"]
[null,"込","最  近 の 記 録",null,null,null,null,null,null,"ベスト記録"]
[null,"票","   ※女子は黒字書き、女子は赤字書きとする。　",null,null,null,null,null,null,null,null,"南アルプス市・甲斐市・中央市陸協"]
[]
[]
[null,65]
[null,"個","性別","種　別",null,null,"種　目","氏　　　　名",null,null,null,"番　号",null,null,"所　　属"]
[null,"人",{"$f":"女子!E75","v":0},{"$f":"女子!F75","v":0},null,null,{"$f":"女子!H75","v":0},{"$f":"女子!D75","v":0},null,null,null,{"$f":"女子!C75","v":0},null,null,{"$f":"女子!G75","v":0}]
[null,"申"]
[null,"込","最  近 の 記 録",null,null,null,null,null,null,"ベスト記録"]
[null,"票","   ※女子は黒字書き、女子は赤字書きとする。　",null,null,null,null,null,null,null,null,"南アルプス市・甲斐市・中央市陸協"]
[]
[null,66]
[null,"個","性別","種　別",null,null,"種　目","氏　　　　名",null,null,null,"番　号",null,null,"所　　属"]
[null,"人",{"$f":"女子!E76","v":0},{"$f":"女子!F76","v":0},null,null,{"$f":"女子!H76","v":0},{"$f":"女子!D76","v":0},null,null,null,{"$f":"女子!C76","v":0},null,null,{"$f":"女子!G76","v":0}]
[null,"申"]
[null,"込","最  近 の 記 録",null,null,null,null,null,null,"ベスト記録"]
[null,"票","   ※女子は黒字書き、女子は赤字書きとする。　",null,null,null,null,null,null,null,null,"南アルプス市・甲斐市・中央市陸協"]
[]
[null,67]
[null,"個","性別","種　別",null,null,"種　目","氏　　　　名",null,null,null,"番　号",null,null,"所　　属"]
[null,"人",{"$f":"女子!E77","v":0},{"$f":"女子!F77","v":0},null,null,{"$f":"女子!H77","v":0},{"$f":"女子!D77","v":0},null,null,null,{"$f":"女子!C77","v":0},null,null,{"$f":"女子!G77","v":0}]
[null,"申"]
[null,"込","最  近 の 記 録",null,null,null,null,null,null,"ベスト記録"]
[null,"票","   ※女子は黒字書き、女子は赤字書きとする。　",null,null,null,null,null,null,null,null,"南アルプス市・甲斐市・中央市陸協"]
[]
[null,68]
[null,"個","性別","種　別",null,null,"種　目","氏　　　　名",null,null,null,"番　号",null,null,"所　　属"]
[null,"人",{"$f":"女子!E78","v":0},{"$f":"女子!F78","v":0},null,null,{"$f":"女子!H78","v":0},{"$f":"女子!D78","v":0},null,null,null,{"$f":"女子!C78","v":0},null,null,{"$f":"女子!G78","v":0}]
[null,"申"]
[null,"込","最  近 の 記 録",null,null,null,null,null,null,"ベスト記録"]
[null,"票","   ※女子は黒字書き、女子は赤字書きとする。　",null,null,null,null,null,null,null,null,"南アルプス市・甲斐市・中央市陸協"]
[]
[null,69]
[null,"個","性別","種　別",null,null,"種　目","氏　　　　名",null,null,null,"番　号",null,null,"所　　属"]
[null,"人",{"$f":"女子!E79","v":0},{"$f":"女子!F79","v":0},null,null,{"$f":"女子!H79","v":0},{"$f":"女子!D79","v":0},null,null,null,{"$f":"女子!C79","v":0},null,null,{"$f":"女子!G79","v":0}]
[null,"申"]
[null,"込","最  近 の 記 録",null,null,null,null,null,null,"ベスト記録"]
[null,"票","   ※女子は黒字書き、女子は赤字書きとする。　",null,null,null,null,null,null,null,null,"南アルプス市・甲斐市・中央市陸協"]
[]
[null,70]
[null,"個","性別","種　別",null,null,"種　目","氏　　　　名",null,null,null,"番　号",null,null,"所　　属"]
[null,"人",{"$f":"女子!E80","v":0},{"$f":"女子!F80","v":0},null,null,{"$f":"女子!H80","v":0},{"$f":"女子!D80","v":0},null,null,null,{"$f":"女子!C80","v":0},null,null,{"$f":"女子!G80","v":0}]
[null,"申"]
[null,"込","最  近 の 記 録",null,null,null,null,null,null,"ベスト記録"]
[null,"票","   ※女子は黒字書き、女子は赤字書きとする。　",null,null,null,null,null,null,null,null,"南アルプス市・甲斐市・中央市陸協"]
[]
[null,71]
[null,"個","性別","種　別",null,null,"種　目","氏　　　　名",null,null,null,"番　号",null,null,"所　　属"]
[null,"人",{"$f":"女子!E81","v":0},{"$f":"女子!F81","v":0},null,null,{"$f":"女子!H81","v":0},{"$f":"女子!D81","v":0},null,null,null,{"$f":"女子!C81","v":0},null,null,{"$f":"女子!G81","v":0}]
[null,"申"]
[null,"込","最  近 の 記 録",null,null,null,null,null,null,"ベスト記録"]
[null,"票","   ※女子は黒字書き、女子は赤字書きとする。　",null,null,null,null,null,null,null,null,"南アルプス市・甲斐市・中央市陸協"]
[]
[null,72]
[null,"個","性別","種　別",null,null,"種　目","氏　　　　名",null,null,null,"番　号",null,null,"所　　属"]
[null,"人",{"$f":"女子!E82","v":0},{"$f":"女子!F82","v":0},null,null,{"$f":"女子!H82","v":0},{"$f":"女子!D82","v":0},null,null,null,{"$f":"女子!C82","v":0},null,null,{"$f":"女子!G82","v":0}]
[null,"申"]
[null,"込","最  近 の 記 録",null,null,null,null,null,null,"ベスト記録"]
[null,"票","   ※女子は黒字書き、女子は赤字書きとする。　",null,null,null,null,null,null,null,null,"南アルプス市・甲斐市・中央市陸協"]
[]
[]
[null,73]
[null,"個","性別","種　別",null,null,"種　目","氏　　　　名",null,null,null,"番　号",null,null,"所　　属"]
[null,"人",{"$f":"女子!E83","v":0},{"$f":"女子!F83","v":0},null,null,{"$f":"女子!H83","v":0},{"$f":"女子!D83","v":0},null,null,null,{"$f":"女子!C83","v":0},null,null,{"$f":"女子!G83","v":0}]
[null,"申"]
[null,"込","最  近 の 記 録",null,null,null,null,null,null,"ベスト記録"]
[null,"票","   ※女子は黒字書き、女子は赤字書きとする。　",null,null,null,null,null,null,null,null,"南アルプス市・甲斐市・中央市陸協"]
[]
[null,74]
[null,"個","性別","種　別",null,null,"種　目","氏　　　　名",null,null,null,"番　号",null,null,"所　　属"]
[null,"人",{"$f":"女子!E84","v":0},{"$f":"女子!F84","v":0},null,null,{"$f":"女子!H84","v":0},{"$f":"女子!D84","v":0},null,null,null,{"$f":"女子!C84","v":0},null,null,{"$f":"女子!G84","v":0}]
[null,"申"]
[null,"込","最  近 の 記 録",null,null,null,null,null,null,"ベスト記録"]
[null,"票","   ※女子は黒字書き、女子は赤字書きとする。　",null,null,null,null,null,null,null,null,"南アルプス市・甲斐市・中央市陸協"]
[]
[null,75]
[null,"個","性別","種　別",null,null,"種　目","氏　　　　名",null,null,null,"番　号",null,null,"所　　属"]
[null,"人",{"$f":"女子!E85","v":0},{"$f":"女子!F85","v":0},null,null,{"$f":"女子!H85","v":0},{"$f":"女子!D85","v":0},null,null,null,{"$f":"女子!C85","v":0},null,null,{"$f":"女子!G85","v":0}]
[null,"申"]
[null,"込","最  近 の 記 録",null,null,null,null,null,null,"ベスト記録"]
[null,"票","   ※女子は黒字書き、女子は赤字書きとする。　",null,null,null,null,null,null,null,null,"南アルプス市・甲斐市・中央市陸協"]
[]
[null,76]
[null,"個","性別","種　別",null,null,"種　目","氏　　　　名",null,null,null,"番　号",null,null,"所　　属"]
[null,"人",{"$f":"女子!E86","v":0},{"$f":"女子!F86","v":0},null,null,{"$f":"女子!H86","v":0},{"$f":"女子!D86","v":0},null,null,null,{"$f":"女子!C86","v":0},null,null,{"$f":"女子!G86","v":0}]
[null,"申"]
[null,"込","最  近 の 記 録",null,null,null,null,null,null,"ベスト記録"]
[null,"票","   ※女子は黒字書き、女子は赤字書きとする。　",null,null,null,null,null,null,null,null,"南アルプス市・甲斐市・中央市陸協"]
[]
[null,77]
[null,"個","性別","種　別",null,null,"種　目","氏　　　　名",null,null,null,"番　号",null,null,"所　　属"]
[null,"人",{"$f":"女子!E87","v":0},{"$f":"女子!F87","v":0},null,null,{"$f":"女子!H87","v":0},{"$f":"女子!D87","v":0},null,null,null,{"$f":"女子!C87","v":0},null,null,{"$f":"女子!G87","v":0}]
[null,"申"]
[null,"込","最  近 の 記 録",null,null,null,null,null,null,"ベスト記録"]
[null,"票","   ※女子は黒字書き、女子は赤字書きとする。　",null,null,null,null,null,null,null,null,"南アルプス市・甲斐市・中央市陸協"]
[]
[null,78]
[null,"個","性別","種　別",null,null,"種　目","氏　　　　名",null,null,null,"番　号",null,null,"所　　属"]
[null,"人",{"$f":"女子!E88","v":0},{"$f":"女子!F88","v":0},null,null,{"$f":"女子!H88","v":0},{"$f":"女子!D88","v":0},null,null,null,{"$f":"女子!C88","v":0},null,null,{"$f":"女子!G88","v":0}]
[null,"申"]
[null,"込","最  近 の 記 録",null,null,null,null,null,null,"ベスト記録"]
[null,"票","   ※女子は黒字書き、女子は赤字書きとする。　",null,null,null,null,null,null,null,null,"南アルプス市・甲斐市・中央市陸協"]
[]
[null,79]
[null,"個","性別","種　別",null,null,"種　目","氏　　　　名",null,null,null,"番　号",null,null,"所　　属"]
[null,"人",{"$f":"女子!E89","v":0},{"$f":"女子!F89","v":0},null,null,{"$f":"女子!H89","v":0},{"$f":"女子!D89","v":0},null,null,null,{"$f":"女子!C89","v":0},null,null,{"$f":"女子!G89","v":0}]
[null,"申"]
[null,"込","最  近 の 記 録",null,null,null,null,null,null,"ベスト記録"]
[null,"票","   ※女子は黒字書き、女子は赤字書きとする。　",null,null,null,null,null,null,null,null,"南アルプス市・甲斐市・中央市陸協"]
[]
[null,80]
[null,"個","性別","種　別",null,null,"種　目","氏　　　　名",null,null,null,"番　号",null,null,"所　　属"]
[null,"人",{"$f":"女子!E90","v":0},{"$f":"女子!F90","v":0},null,null,{"$f":"女子!H90","v":0},{"$f":"女子!D90","v":0},null,null,null,{"$f":"女子!C90","v":0},null,null,{"$f":"女子!G90","v":0}]
[null,"申"]
[null,"込","最  近 の 記 録",null,null,null,null,null,null,"ベスト記録"]
[null,"票","   ※女子は黒字書き、女子は赤字書きとする。　",null,null,null,null,null,null,null,null,"南アルプス市・甲斐市・中央市陸協"]
[]
[]
[null,81]
[null,"個","性別","種　別",null,null,"種　目","氏　　　　名",null,null,null,"番　号",null,null,"所　　属"]
[null,"人",{"$f":"女子!E91","v":0},{"$f":"女子!F91","v":0},null,null,{"$f":"女子!H91","v":0},{"$f":"女子!D91","v":0},null,null,null,{"$f":"女子!C91","v":0},null,null,{"$f":"女子!G91","v":0}]
[null,"申"]
[null,"込","最  近 の 記 録",null,null,null,null,null,null,"ベスト記録"]
[null,"票","   ※女子は黒字書き、女子は赤字書きとする。　",null,null,null,null,null,null,null,null,"南アルプス市・甲斐市・中央市陸協"]
[]
[null,82]
[null,"個","性別","種　別",null,null,"種　目","氏　　　　名",null,null,null,"番　号",null,null,"所　　属"]
[null,"人",{"$f":"女子!E92","v":0},{"$f":"女子!F92","v":0},null,null,{"$f":"女子!H92","v":0},{"$f":"女子!D92","v":0},null,null,null,{"$f":"女子!C92","v":0},null,null,{"$f":"女子!G92","v":0}]
[null,"申"]
[null,"込","最  近 の 記 録",null,null,null,null,null,null,"ベスト記録"]
[null,"票","   ※女子は黒字書き、女子は赤字書きとする。　",null,null,null,null,null,null,null,null,"南アルプス市・甲斐市・中央市陸協"]
[]
[null,83]
[null,"個","性別","種　別",null,null,"種　目","氏　　　　名",null,null,null,"番　号",null,null,"所　　属"]
[null,"人",{"$f":"女子!E93","v":0},{"$f":"女子!F93","v":0},null,null,{"$f":"女子!H93","v":0},{"$f":"女子!D93","v":0},null,null,null,{"$f":"女子!C93","v":0},null,null,{"$f":"女子!G93","v":0}]
[null,"申"]
[null,"込","最  近 の 記 録",null,null,null,null,null,null,"ベスト記録"]
[null,"票","   ※女子は黒字書き、女子は赤字書きとする。　",null,null,null,null,null,null,null,null,"南アルプス市・甲斐市・中央市陸協"]
[]
[null,84]
[null,"個","性別","種　別",null,null,"種　目","氏　　　　名",null,null,null,"番　号",null,null,"所　　属"]
[null,"人",{"$f":"女子!E94","v":0},{"$f":"女子!F94","v":0},null,null,{"$f":"女子!H94","v":0},{"$f":"女子!D94","v":0},null,null,null,{"$f":"女子!C94","v":0},null,null,{"$f":"女子!G94","v":0}]
[null,"申"]
[null,"込","最  近 の 記 録",null,null,null,null,null,null,"ベスト記録"]
[null,"票","   ※女子は黒字書き、女子は赤字書きとする。　",null,null,null,null,null,null,null,null,"南アルプス市・甲斐市・中央市陸協"]
[]
[null,85]
[null,"個","性別","種　別",null,null,"種　目","氏　　　　名",null,null,null,"番　号",null,null,"所　　属"]
[null,"人",{"$f":"女子!E95","v":0},{"$f":"女子!F95","v":0},null,null,{"$f":"女子!H95","v":0},{"$f":"女子!D95","v":0},null,null,null,{"$f":"女子!C95","v":0},null,null,{"$f":"女子!G95","v":0}]
[null,"申"]
[null,"込","最  近 の 記 録",null,null,null,null,null,null,"ベスト記録"]
[null,"票","   ※女子は黒字書き、女子は赤字書きとする。　",null,null,null,null,null,null,null,null,"南アルプス市・甲斐市・中央市陸協"]
[]
[null,86]
[null,"個","性別","種　別",null,null,"種　目","氏　　　　名",null,null,null,"番　号",null,null,"所　　属"]
[null,"人",{"$f":"女子!E96","v":0},{"$f":"女子!F96","v":0},null,null,{"$f":"女子!H96","v":0},{"$f":"女子!D96","v":0},null,null,null,{"$f":"女子!C96","v":0},null,null,{"$f":"女子!G96","v":0}]
[null,"申"]
[null,"込","最  近 の 記 録",null,null,null,null,null,null,"ベスト記録"]
[null,"票","   ※女子は黒字書き、女子は赤字書きとする。　",null,null,null,null,null,null,null,null,"南アルプス市・甲斐市・中央市陸協"]
[]
[null,87]
[null,"個","性別","種　別",null,null,"種　目","氏　　　　名",null,null,null,"番　号",null,null,"所　　属"]
[null,"人",{"$f":"女子!E97","v":0},{"$f":"女子!F97","v":0},null,null,{"$f":"女子!H97","v":0},{"$f":"女子!D97","v":0},null,null,null,{"$f":"女子!C97","v":0},null,null,{"$f":"女子!G97","v":0}]
[null,"申"]
[null,"込","最  近 の 記 録",null,null,null,null,null,null,"ベスト記録"]
[null,"票","   ※女子は黒字書き、女子は赤字書きとする。　",null,null,null,null,null,null,null,null,"南アルプス市・甲斐市・中央市陸協"]
[]
[]
[null,88]
[null,"個","性別","種　別",null,null,"種　目","氏　　　　名",null,null,null,"番　号",null,null,"所　　属"]
[null,"人",{"$f":"女子!E98","v":0},{"$f":"女子!F98","v":0},null,null,{"$f":"女子!H98","v":0},{"$f":"女子!D98","v":0},null,null,null,{"$f":"女子!C98","v":0},null,null,{"$f":"女子!G98","v":0}]
[null,"申"]
[null,"込","最  近 の 記 録",null,null,null,null,null,null,"ベスト記録"]
[null,"票","   ※女子は黒字書き、女子は赤字書きとする。　",null,null,null,null,null,null,null,null,"南アルプス市・甲斐市・中央市陸協"]
[]
[null,89]
[null,"個","性別","種　別",null,null,"種　目","氏　　　　名",null,null,null,"番　号",null,null,"所　　属"]
[null,"人",{"$f":"女子!E99","v":0},{"$f":"女子!F99","v":0},null,null,{"$f":"女子!H99","v":0},{"$f":"女子!D99","v":0},null,null,null,{"$f":"女子!C99","v":0},null,null,{"$f":"女子!G99","v":0}]
[null,"申"]
[null,"込","最  近 の 記 録",null,null,null,null,null,null,"ベスト記録"]
[null,"票","   ※女子は黒字書き、女子は赤字書きとする。　",null,null,null,null,null,null,null,null,"南アルプス市・甲斐市・中央市陸協"]
[]
[null,90]
[null,"個","性別","種　別",null,null,"種　目","氏　　　　名",null,null,null,"番　号",null,null,"所　　属"]
[null,"人",{"$f":"女子!E100","v":0},{"$f":"女子!F100","v":0},null,null,{"$f":"女子!H100","v":0},{"$f":"女子!D100","v":0},null,null,null,{"$f":"女子!C100","v":0},null,null,{"$f":"女子!G100","v":0}]
[null,"申"]
[null,"込","最  近 の 記 録",null,null,null,null,null,null,"ベスト記録"]
[null,"票","   ※女子は黒字書き、女子は赤字書きとする。　",null,null,null,null,null,null,null,null,"南アルプス市・甲斐市・中央市陸協"]
[]
[null,91]
[null,"個","性別","種　別",null,null,"種　目","氏　　　　名",null,null,null,"番　号",null,null,"所　　属"]
[null,"人",{"$f":"女子!E101","v":0},{"$f":"女子!F101","v":0},null,null,{"$f":"女子!H101","v":0},{"$f":"女子!D101","v":0},null,null,null,{"$f":"女子!C101","v":0},null,null,{"$f":"女子!G101","v":0}]
[null,"申"]
[null,"込","最  近 の 記 録",null,null,null,null,null,null,"ベスト記録"]
[null,"票","   ※女子は黒字書き、女子は赤字書きとする。　",null,null,null,null,null,null,null,null,"南アルプス市・甲斐市・中央市陸協"]
[]
[null,92]
[null,"個","性別","種　別",null,null,"種　目","氏　　　　名",null,null,null,"番　号",null,null,"所　　属"]
[null,"人",{"$f":"女子!E102","v":0},{"$f":"女子!F102","v":0},null,null,{"$f":"女子!H102","v":0},{"$f":"女子!D102","v":0},null,null,null,{"$f":"女子!C102","v":0},null,null,{"$f":"女子!G102","v":0}]
[null,"申"]
[null,"込","最  近 の 記 録",null,null,null,null,null,null,"ベスト記録"]
[null,"票","   ※女子は黒字書き、女子は赤字書きとする。　",null,null,null,null,null,null,null,null,"南アルプス市・甲斐市・中央市陸協"]
[]
[null,93]
[null,"個","性別","種　別",null,null,"種　目","氏　　　　名",null,null,null,"番　号",null,null,"所　　属"]
[null,"人",{"$f":"女子!E103","v":0},{"$f":"女子!F103","v":0},null,null,{"$f":"女子!H103","v":0},{"$f":"女子!D103","v":0},null,null,null,{"$f":"女子!C103","v":0},null,null,{"$f":"女子!G103","v":0}]
[null,"申"]
[null,"込","最  近 の 記 録",null,null,null,null,null,null,"ベスト記録"]
[null,"票","   ※女子は黒字書き、女子は赤字書きとする。　",null,null,null,null,null,null,null,null,"南アルプス市・甲斐市・中央市陸協"]
[]
[null,94]
[null,"個","性別","種　別",null,null,"種　目","氏　　　　名",null,null,null,"番　号",null,null,"所　　属"]
[null,"人",{"$f":"女子!E104","v":0},{"$f":"女子!F104","v":0},null,null,{"$f":"女子!H104","v":0},{"$f":"女子!D104","v":0},null,null,null,{"$f":"女子!C104","v":0},null,null,{"$f":"女子!G104","v":0}]
[null,"申"]
[null,"込","最  近 の 記 録",null,null,null,null,null,null,"ベスト記録"]
[null,"票","   ※女子は黒字書き、女子は赤字書きとする。　",null,null,null,null,null,null,null,null,"南アルプス市・甲斐市・中央市陸協"]
[]
[null,95]
[null,"個","性別","種　別",null,null,"種　目","氏　　　　名",null,null,null,"番　号",null,null,"所　　属"]
[null,"人",{"$f":"女子!E105","v":0},{"$f":"女子!F105","v":0},null,null,{"$f":"女子!H105","v":0},{"$f":"女子!D105","v":0},null,null,null,{"$f":"女子!C105","v":0},null,null,{"$f":"女子!G105","v":0}]
[null,"申"]
[null,"込","最  近 の 記 録",null,null,null,null,null,null,"ベスト記録"]
[null,"票","   ※女子は黒字書き、女子は赤字書きとする。　",null,null,null,null,null,null,null,null,"南アルプス市・甲斐市・中央市陸協"]
[]
[]
[null,96]
[null,"個","性別","種　別",null,null,"種　目","氏　　　　名",null,null,null,"番　号",null,null,"所　　属"]
[null,"人",{"$f":"女子!E106","v":0},{"$f":"女子!F106","v":0},null,null,{"$f":"女子!H106","v":0},{"$f":"女子!D106","v":0},null,null,null,{"$f":"女子!C106","v":0},null,null,{"$f":"女子!G106","v":0}]
[null,"申"]
[null,"込","最  近 の 記 録",null,null,null,null,null,null,"ベスト記録"]
[null,"票","   ※女子は黒字書き、女子は赤字書きとする。　",null,null,null,null,null,null,null,null,"南アルプス市・甲斐市・中央市陸協"]
[]
[null,97]
[null,"個","性別","種　別",null,null,"種　目","氏　　　　名",null,null,null,"番　号",null,null,"所　　属"]
[null,"人",{"$f":"女子!E107","v":0},{"$f":"女子!F107","v":0},null,null,{"$f":"女子!H107","v":0},{"$f":"女子!D107","v":0},null,null,null,{"$f":"女子!C107","v":0},null,null,{"$f":"女子!G107","v":0}]
[null,"申"]
[null,"込","最  近 の 記 録",null,null,null,null,null,null,"ベスト記録"]
[null,"票","   ※女子は黒字書き、女子は赤字書きとする。　",null,null,null,null,null,null,null,null,"南アルプス市・甲斐市・中央市陸協"]
[]
[null,98]
[null,"個","性別","種　別",null,null,"種　目","氏　　　　名",null,null,null,"番　号",null,null,"所　　属"]
[null,"人",{"$f":"女子!E108","v":0},{"$f":"女子!F108","v":0},null,null,{"$f":"女子!H108","v":0},{"$f":"女子!D108","v":0},null,null,null,{"$f":"女子!C108","v":0},null,null,{"$f":"女子!G108","v":0}]
[null,"申"]
[null,"込","最  近 の 記 録",null,null,null,null,null,null,"ベスト記録"]
[null,"票","   ※女子は黒字書き、女子は赤字書きとする。　",null,null,null,null,null,null,null,null,"南アルプス市・甲斐市・中央市陸協"]
[]
[null,99]
[null,"個","性別","種　別",null,null,"種　目","氏　　　　名",null,null,null,"番　号",null,null,"所　　属"]
[null,"人",{"$f":"女子!E109","v":0},{"$f":"女子!F109","v":0},null,null,{"$f":"女子!H109","v":0},{"$f":"女子!D109","v":0},null,null,null,{"$f":"女子!C109","v":0},null,null,{"$f":"女子!G109","v":0}]
[null,"申"]
[null,"込","最  近 の 記 録",null,null,null,null,null,null,"ベスト記録"]
[null,"票","   ※女子は黒字書き、女子は赤字書きとする。　",null,null,null,null,null,null,null,null,"南アルプス市・甲斐市・中央市陸協"]
[]
[null,100]
[null,"個","性別","種　別",null,null,"種　目","氏　　　　名",null,null,null,"番　号",null,null,"所　　属"]
[null,"人",{"$f":"女子!E110","v":0},{"$f":"女子!F110","v":0},null,null,{"$f":"女子!H110","v":0},{"$f":"女子!D110","v":0},null,null,null,{"$f":"女子!C110","v":0},null,null,{"$f":"女子!G110","v":0}]
[null,"申"]
[null,"込","最  近 の 記 録",null,null,null,null,null,null,"ベスト記録"]
[null,"票","   ※女子は黒字書き、女子は赤字書きとする。　",null,null,null,null,null,null,null,null,"南アルプス市・甲斐市・中央市陸協"]

{"sheet":"ﾘﾚｰ個票","index":4,"n_rows":86,"n_cols":8,"rows_kept":86,"cut":false,"hidden":false,"merged":[[1,2,1,7],[4,6,4,7],[5,6,5,7],[7,6,7,7],[18,6,18,7],[29,6,29,7],[40,6,40,7],[3,1,9,1],[14,1,20,1],[25,1,31,1],[36,1,42,1],[16,6,16,7],[27,6,27,7],[26,6,26,7],[34,2,34,7],[37,6,37,7],[38,6,38,7],[12,2,12,7],[15,6,15,7],[23,2,23,7],[45,2,45,7],[47,1,53,1],[48,6,48,7],[49,6,49,7],[51,6,51,7],[56,2,56,7],[58,1,64,1],[59,6,59,7],[60,6,60,7],[62,6,62,7],[67,2,67,7],[69,1,75,1],[70,6,70,7],[71,6,71,7],[73,6,73,7],[78,2,78,7],[80,1,86,1],[81,6,81,7],[82,6,82,7],[84,6,84,7]]}
[]
[null,null,"４×１００ｍR申込書（個票）"]
[null,null,"No","氏　　名","性別","年齢","所属",{"$f":"男子!$E$5","v":0}]
[null,"上から走順に記入の事",101,null,null,null,"組","4×100ｍR/A"]
[null,null,102,null,null,null,"　☆プログラム構成の都合上，申込票は"]
[null,null,103,null,null,null,"　　指定の様式を厳守すること。"]
[null,null,104]
[null,null,null,null,null,null,"※男子は黒字書き　女子は赤字書き。"]
[null,null,null,null,null,null,"南アルプス市・甲斐市・中央市陸上競技協会　"]
[]
[]
[]
[null,null,"４×１００ｍR申込書（個票）"]
[null,null,"No","氏　　名","性別","年齢","所属",{"$f":"男子!$E$5","v":0}]
[null,"上から走順に記入の事",null,null,null,null,"組","4×100ｍR/B"]
[null,null,null,null,null,null,"　☆プログラム構成の都合上，申込票は"]
[null,null,null,null,null,null,"　　指定の様式を厳守すること。"]
[]
[null,null,null,null,null,null,"※男子は黒字書き　女子は赤字書き。"]
[null,null,null,null,null,null,"南アルプス市・甲斐市・中央市陸上競技協会　"]
[]
[]
[]
[null,null,"４×１００ｍR申込書（個票）"]
[null,null,"No","氏　　名","性別","年齢","所属",{"$f":"男子!$E$5","v":0}]
[null,"上から走順に記入の事",null,null,null,null,"組","4×100ｍR/C"]
[null,null,null,null,null,null,"　☆プログラム構成の都合上，申込票は"]
[null,null,null,null,null,null,"　　指定の様式を厳守すること。"]
[]
[null,null,null,null,null,null,"※男子は黒字書き　女子は赤字書き。"]
[null,null,null,null,null,null,"南アルプス市・甲斐市・中央市陸上競技協会　"]
[]
[]
[]
[null,null,"４×１００ｍR申込書（個票）"]
[null,null,"No","氏　　名","性別","年齢","所属",{"$f":"男子!$E$5","v":0}]
[null,"上から走順に記入の事",null,null,null,null,"組","4×100ｍR/D"]
[null,null,null,null,null,null,"　☆プログラム構成の都合上，申込票は"]
[null,null,null,null,null,null,"　　指定の様式を厳守すること。"]
[]
[null,null,null,null,null,null,"※男子は黒字書き　女子は赤字書き。"]
[null,null,null,null,null,null,"南アルプス市・甲斐市・中央市陸上競技協会　"]
[]
[]
[]
[null,null,"４×１００ｍR申込書（個票）"]
[null,null,"No","氏　　名","性別","年齢","所属",{"$f":"男子!$E$5","v":0}]
[null,"上から走順に記入の事",null,null,null,null,"組","4×100ｍR/A"]
[null,null,null,null,null,null,"　☆プログラム構成の都合上，申込票は"]
[null,null,null,null,null,null,"　　指定の様式を厳守すること。"]
[]
[null,null,null,null,null,null,"※男子は黒字書き　女子は赤字書き。"]
[null,null,null,null,null,null,"南アルプス市・甲斐市・中央市陸上競技協会　"]
[]
[]
[]
[null,null,"４×１００ｍR申込書（個票）"]
[null,null,"No","氏　　名","性別","年齢","所属",{"$f":"男子!$E$5","v":0}]
[null,"上から走順に記入の事",null,null,null,null,"組","4×100ｍR/B"]
[null,null,null,null,null,null,"　☆プログラム構成の都合上，申込票は"]
[null,null,null,null,null,null,"　　指定の様式を厳守すること。"]
[]
[null,null,null,null,null,null,"※男子は黒字書き　女子は赤字書き。"]
[null,null,null,null,null,null,"南アルプス市・甲斐市・中央市陸上競技協会　"]
[]
[]
[]
[null,null,"４×１００ｍR申込書（個票）"]
[null,null,"No","氏　　名","性別","年齢","所属",{"$f":"男子!$E$5","v":0}]
[null,"上から走順に記入の事",null,null,null,null,"組","4×100ｍR/C"]
[null,null,null,null,null,null,"　☆プログラム構成の都合上，申込票は"]
[null,null,null,null,null,null,"　　指定の様式を厳守すること。"]
[]
[null,null,null,null,null,null,"※男子は黒字書き　女子は赤字書き。"]
[null,null,null,null,null,null,"南アルプス市・甲斐市・中央市陸上競技協会　"]
[]
[]
[]
[null,null,"４×１００ｍR申込書（個票）"]
[null,null,"No","氏　　名","性別","年齢","所属",{"$f":"男子!$E$5","v":0}]
[null,"上から走順に記入の事",null,null,null,null,"組","4×100ｍR/D"]
[null,null,null,null,null,null,"　☆プログラム構成の都合上，申込票は"]
[null,null,null,null,null,null,"　　指定の様式を厳守すること。"]
[]
[null,null,null,null,null,null,"※男子は黒字書き　女子は赤字書き。"]
[null,null,null,null,null,null,"南アルプス市・甲斐市・中央市陸上競技協会　"]

{"sheet":"データー","index":5,"n_rows":78,"n_cols":6,"rows_kept":78,"cut":false,"hidden":false,"merged":[]}
[]
[]
[null,"性　別","年　齢","学　年","所　　属","種　目"]
[null,"男","－","－","－","－"]
[null,"女",7,"小1（7）",null,"60ｍ"]
[null,null,8,"小2（8）",null,"100ｍ"]
[null,null,9,"小3（9）",null,"800m"]
[null,null,10,"小4（10）",null,"1000ｍ"]
[null,null,11,"小5（11）",null,"1500ｍ"]
[null,null,12,"小6（12）",null,"5000ｍ"]
[null,null,13,"中1（13）",null,"4×100ｍR/A"]
[null,null,14,"中2（14）",null,"4×100ｍR/B"]
[null,null,15,"中3（15）",null,"4×100ｍR/C"]
[null,null,16,"一般・高校",null,"4×100ｍR/D"]
[null,null,17,"一般・大学",null,"4×100ｍR/E"]
[null,null,18,"30才代",null,"走幅跳"]
[null,null,19,"30才以上",null,"砲丸投"]
[null,null,20,"40才代"]
[null,null,21,"50才以上"]
[null,null,22]
[null,null,23]
[null,null,24]
[null,null,25]
[null,null,26]
[null,null,27]
[null,null,28]
[null,null,29]
[null,null,30]
[null,null,31]
[null,null,32]
[null,null,33]
[null,null,34]
[null,null,35]
[null,null,36]
[null,null,37]
[null,null,38]
[null,null,39]
[null,null,40]
[null,null,41]
[null,null,42]
[null,null,43]
[null,null,44]
[null,null,45]
[null,null,46]
[null,null,47]
[null,null,48]
[null,null,49]
[null,null,50]
[null,null,51]
[null,null,52]
[null,null,53]
[null,null,54]
[null,null,55]
[null,null,56]
[null,null,57]
[null,null,58]
[null,null,59]
[null,null,60]
[null,null,61]
[null,null,62]
[null,null,63]
[null,null,64]
[null,null,65]
[null,null,66]
[null,null,67]
[null,null,68]
[null,null,69]
[null,null,70]
[null,null,71]
[null,null,72]
[null,null,73]
[null,null,74]
[null,null,75]
[null,null,76]
[null,null,77]
[null,null,78]
[null,null,79]
[null,null,80]